BEGIN:VCALENDAR
VERSION:2.0
PRODID:-//The Garland Theater - ECPv6.15.20//NONSGML v1.0//EN
CALSCALE:GREGORIAN
METHOD:PUBLISH
X-ORIGINAL-URL:https://garlandtheater.org
X-WR-CALDESC:Events for The Garland Theater
REFRESH-INTERVAL;VALUE=DURATION:PT1H
X-Robots-Tag:noindex
X-PUBLISHED-TTL:PT1H
BEGIN:VTIMEZONE
TZID:America/Los_Angeles
BEGIN:DAYLIGHT
TZOFFSETFROM:-0800
TZOFFSETTO:-0700
TZNAME:PDT
DTSTART:20250309T100000
END:DAYLIGHT
BEGIN:STANDARD
TZOFFSETFROM:-0700
TZOFFSETTO:-0800
TZNAME:PST
DTSTART:20251102T090000
END:STANDARD
BEGIN:DAYLIGHT
TZOFFSETFROM:-0800
TZOFFSETTO:-0700
TZNAME:PDT
DTSTART:20260308T100000
END:DAYLIGHT
BEGIN:STANDARD
TZOFFSETFROM:-0700
TZOFFSETTO:-0800
TZNAME:PST
DTSTART:20261101T090000
END:STANDARD
BEGIN:DAYLIGHT
TZOFFSETFROM:-0800
TZOFFSETTO:-0700
TZNAME:PDT
DTSTART:20270314T100000
END:DAYLIGHT
BEGIN:STANDARD
TZOFFSETFROM:-0700
TZOFFSETTO:-0800
TZNAME:PST
DTSTART:20271107T090000
END:STANDARD
END:VTIMEZONE
BEGIN:VEVENT
DTSTART;TZID=America/Los_Angeles:20260426T140000
DTEND;TZID=America/Los_Angeles:20260426T140000
DTSTAMP:20260423T134114
CREATED:20260413T231440Z
LAST-MODIFIED:20260413T231440Z
UID:6132-1777212000-1777212000@garlandtheater.org
SUMMARY:The Wild Robot
DESCRIPTION:
URL:https://garlandtheater.org/event/the-wild-robot/
CATEGORIES:Movie Club,Showtime
ATTACH;FMTTYPE=image/jpeg:https://garlandtheater.org/wp-content/uploads/2025/01/Wild-Robot.jpg
END:VEVENT
BEGIN:VEVENT
DTSTART;TZID=America/Los_Angeles:20260426T173000
DTEND;TZID=America/Los_Angeles:20260426T173000
DTSTAMP:20260423T134114
CREATED:20260419T222817Z
LAST-MODIFIED:20260419T222817Z
UID:6175-1777224600-1777224600@garlandtheater.org
SUMMARY:Last Action Hero  Free with Movie Club
DESCRIPTION:
URL:https://garlandtheater.org/event/last-action-hero-free-with-movie-club/
CATEGORIES:Movie Club,Showtime
ATTACH;FMTTYPE=image/jpeg:https://garlandtheater.org/wp-content/uploads/2026/04/lastactionheroposter-scaled.jpg
END:VEVENT
END:VCALENDAR