BEGIN:VCALENDAR
VERSION:2.0
PRODID:-//The Garland Theater - ECPv6.15.20//NONSGML v1.0//EN
CALSCALE:GREGORIAN
METHOD:PUBLISH
X-WR-CALNAME:The Garland Theater
X-ORIGINAL-URL:https://garlandtheater.org
X-WR-CALDESC:Events for The Garland Theater
REFRESH-INTERVAL;VALUE=DURATION:PT1H
X-Robots-Tag:noindex
X-PUBLISHED-TTL:PT1H
BEGIN:VTIMEZONE
TZID:America/Los_Angeles
BEGIN:DAYLIGHT
TZOFFSETFROM:-0800
TZOFFSETTO:-0700
TZNAME:PDT
DTSTART:20250309T100000
END:DAYLIGHT
BEGIN:STANDARD
TZOFFSETFROM:-0700
TZOFFSETTO:-0800
TZNAME:PST
DTSTART:20251102T090000
END:STANDARD
BEGIN:DAYLIGHT
TZOFFSETFROM:-0800
TZOFFSETTO:-0700
TZNAME:PDT
DTSTART:20260308T100000
END:DAYLIGHT
BEGIN:STANDARD
TZOFFSETFROM:-0700
TZOFFSETTO:-0800
TZNAME:PST
DTSTART:20261101T090000
END:STANDARD
BEGIN:DAYLIGHT
TZOFFSETFROM:-0800
TZOFFSETTO:-0700
TZNAME:PDT
DTSTART:20270314T100000
END:DAYLIGHT
BEGIN:STANDARD
TZOFFSETFROM:-0700
TZOFFSETTO:-0800
TZNAME:PST
DTSTART:20271107T090000
END:STANDARD
END:VTIMEZONE
BEGIN:VEVENT
DTSTART;TZID=America/Los_Angeles:20260420T180000
DTEND;TZID=America/Los_Angeles:20260420T180000
DTSTAMP:20260422T202102
CREATED:20260403T001735Z
LAST-MODIFIED:20260403T001735Z
UID:6053-1776708000-1776708000@garlandtheater.org
SUMMARY:Dazed and Confused  Free with Movie Club
DESCRIPTION:
URL:https://garlandtheater.org/event/dazed-and-confused-free-with-movie-club/
CATEGORIES:Movie Club,Showtime
ATTACH;FMTTYPE=image/jpeg:https://garlandtheater.org/wp-content/uploads/2026/04/dazedandconfusedposter.jpg
END:VEVENT
BEGIN:VEVENT
DTSTART;TZID=America/Los_Angeles:20260419T170000
DTEND;TZID=America/Los_Angeles:20260419T170000
DTSTAMP:20260422T202102
CREATED:20260403T001148Z
LAST-MODIFIED:20260403T001148Z
UID:6051-1776618000-1776618000@garlandtheater.org
SUMMARY:Grease  Free with Movie Club
DESCRIPTION:
URL:https://garlandtheater.org/event/grease-free-with-movie-club/
CATEGORIES:Movie Club,Showtime
ATTACH;FMTTYPE=image/jpeg:https://garlandtheater.org/wp-content/uploads/2024/07/Grease.jpg
END:VEVENT
BEGIN:VEVENT
DTSTART;TZID=America/Los_Angeles:20260419T140000
DTEND;TZID=America/Los_Angeles:20260419T140000
DTSTAMP:20260422T202102
CREATED:20260217T005524Z
LAST-MODIFIED:20260217T015016Z
UID:5786-1776607200-1776607200@garlandtheater.org
SUMMARY:Megamind  Free Admission  With Movie Club
DESCRIPTION:
URL:https://garlandtheater.org/event/megamind-free-admission-with-movie-club/
CATEGORIES:Movie Club,Showtime
ATTACH;FMTTYPE=image/jpeg:https://garlandtheater.org/wp-content/uploads/2026/02/megamind.jpg
END:VEVENT
BEGIN:VEVENT
DTSTART;TZID=America/Los_Angeles:20260418T140000
DTEND;TZID=America/Los_Angeles:20260418T140000
DTSTAMP:20260422T202102
CREATED:20260216T230350Z
LAST-MODIFIED:20260217T014946Z
UID:5768-1776520800-1776520800@garlandtheater.org
SUMMARY:Megamind  Free Admission
DESCRIPTION:
URL:https://garlandtheater.org/event/megamind-free-admission/
CATEGORIES:Movie Club,Showtime
ATTACH;FMTTYPE=image/jpeg:https://garlandtheater.org/wp-content/uploads/2026/02/megamind.jpg
END:VEVENT
BEGIN:VEVENT
DTSTART;TZID=America/Los_Angeles:20260415T180000
DTEND;TZID=America/Los_Angeles:20260415T180000
DTSTAMP:20260422T202102
CREATED:20260326T221402Z
LAST-MODIFIED:20260326T221402Z
UID:6015-1776276000-1776276000@garlandtheater.org
SUMMARY:True Romance  Free with Movie Club
DESCRIPTION:
URL:https://garlandtheater.org/event/true-romance-free-with-movie-club/
CATEGORIES:Movie Club,Showtime
ATTACH;FMTTYPE=image/jpeg:https://garlandtheater.org/wp-content/uploads/2026/03/Trueromanceposter-scaled.jpg
END:VEVENT
BEGIN:VEVENT
DTSTART;TZID=America/Los_Angeles:20260413T180000
DTEND;TZID=America/Los_Angeles:20260413T180000
DTSTAMP:20260422T202102
CREATED:20260326T221114Z
LAST-MODIFIED:20260326T221114Z
UID:6011-1776103200-1776103200@garlandtheater.org
SUMMARY:Crazy Stupid Love  Free with Movie Club
DESCRIPTION:
URL:https://garlandtheater.org/event/crazy-stupid-love-free-with-movie-club/
CATEGORIES:Movie Club,Showtime
ATTACH;FMTTYPE=image/jpeg:https://garlandtheater.org/wp-content/uploads/2026/03/crazystupidloveposter.jpg
END:VEVENT
BEGIN:VEVENT
DTSTART;TZID=America/Los_Angeles:20260412T170000
DTEND;TZID=America/Los_Angeles:20260412T170000
DTSTAMP:20260422T202102
CREATED:20260326T220607Z
LAST-MODIFIED:20260326T220607Z
UID:6008-1776013200-1776013200@garlandtheater.org
SUMMARY:Casablanca  Free with Movie Club
DESCRIPTION:
URL:https://garlandtheater.org/event/casablanca-free-with-movie-club/
CATEGORIES:Movie Club,Showtime
ATTACH;FMTTYPE=image/jpeg:https://garlandtheater.org/wp-content/uploads/2026/03/casablancaposter.jpg
END:VEVENT
BEGIN:VEVENT
DTSTART;TZID=America/Los_Angeles:20260412T140000
DTEND;TZID=America/Los_Angeles:20260412T140000
DTSTAMP:20260422T202102
CREATED:20260326T214648Z
LAST-MODIFIED:20260412T190639Z
UID:5999-1776002400-1776002400@garlandtheater.org
SUMMARY:K-Pop Demon Hunters  Free with Movie Club
DESCRIPTION:
URL:https://garlandtheater.org/event/the-spongebob-movie-search-for-squarepants-free-with-movie-club/
CATEGORIES:Movie Club,Showtime
ATTACH;FMTTYPE=image/jpeg:https://garlandtheater.org/wp-content/uploads/2026/02/k-popdemonhuntersposter.jpg
END:VEVENT
BEGIN:VEVENT
DTSTART;TZID=America/Los_Angeles:20260411T110000
DTEND;TZID=America/Los_Angeles:20260411T110000
DTSTAMP:20260422T202102
CREATED:20260410T164227Z
LAST-MODIFIED:20260410T164227Z
UID:6118-1775905200-1775905200@garlandtheater.org
SUMMARY:The Rugrats Movie  Sensory Friendly  Free Admission  With Movie Club
DESCRIPTION:
URL:https://garlandtheater.org/event/the-rugrats-movie-sensory-friendly-free-admission-with-movie-club/
CATEGORIES:Movie Club,Showtime,Special Event
ATTACH;FMTTYPE=image/jpeg:https://garlandtheater.org/wp-content/uploads/2026/02/Rugrats.jpg
END:VEVENT
BEGIN:VEVENT
DTSTART;TZID=America/Los_Angeles:20260407T130000
DTEND;TZID=America/Los_Angeles:20260407T130000
DTSTAMP:20260422T202102
CREATED:20260216T221457Z
LAST-MODIFIED:20260216T221457Z
UID:5751-1775566800-1775566800@garlandtheater.org
SUMMARY:Click  20th Anniversary  Free Admission  With Movie Club
DESCRIPTION:
URL:https://garlandtheater.org/event/click-20th-anniversary-free-admission-with-movie-club/
CATEGORIES:Movie Club,Showtime
ATTACH;FMTTYPE=image/webp:https://garlandtheater.org/wp-content/uploads/2026/02/Click.webp
END:VEVENT
BEGIN:VEVENT
DTSTART;TZID=America/Los_Angeles:20260406T180000
DTEND;TZID=America/Los_Angeles:20260406T180000
DTSTAMP:20260422T202102
CREATED:20260302T031329Z
LAST-MODIFIED:20260302T031329Z
UID:5882-1775498400-1775498400@garlandtheater.org
SUMMARY:Toxic Avenger (2023)  Free with Movie Club
DESCRIPTION:
URL:https://garlandtheater.org/event/toxic-avenger-2023-free-with-movie-club/
CATEGORIES:Movie Club,Showtime
ATTACH;FMTTYPE=image/jpeg:https://garlandtheater.org/wp-content/uploads/2026/03/ToxicAvenger_finalposter.jpg
END:VEVENT
BEGIN:VEVENT
DTSTART;TZID=America/Los_Angeles:20260405T170000
DTEND;TZID=America/Los_Angeles:20260405T170000
DTSTAMP:20260422T202102
CREATED:20260302T031047Z
LAST-MODIFIED:20260302T031047Z
UID:5880-1775408400-1775408400@garlandtheater.org
SUMMARY:The Goonies  Free with Movie Club
DESCRIPTION:
URL:https://garlandtheater.org/event/the-goonies-free-with-movie-club/
CATEGORIES:Movie Club,Showtime
ATTACH;FMTTYPE=image/jpeg:https://garlandtheater.org/wp-content/uploads/2024/05/goonies5.jpg
END:VEVENT
BEGIN:VEVENT
DTSTART;TZID=America/Los_Angeles:20260405T140000
DTEND;TZID=America/Los_Angeles:20260405T140000
DTSTAMP:20260422T202102
CREATED:20260216T231811Z
LAST-MODIFIED:20260216T231811Z
UID:5775-1775397600-1775397600@garlandtheater.org
SUMMARY:Spirit  Stallion of the Cimarron  Free Admission  With Movie Club
DESCRIPTION:
URL:https://garlandtheater.org/event/spirit-stallion-of-the-cimarron-free-admission-with-movie-club/
CATEGORIES:Movie Club,Showtime
ATTACH;FMTTYPE=image/jpeg:https://garlandtheater.org/wp-content/uploads/2026/02/spiritstallion.jpg
END:VEVENT
BEGIN:VEVENT
DTSTART;TZID=America/Los_Angeles:20260404T140000
DTEND;TZID=America/Los_Angeles:20260404T140000
DTSTAMP:20260422T202102
CREATED:20260217T021554Z
LAST-MODIFIED:20260217T021554Z
UID:5809-1775311200-1775311200@garlandtheater.org
SUMMARY:Spirit  Stallion of the Cimarron  Free Admission
DESCRIPTION:
URL:https://garlandtheater.org/event/spirit-stallion-of-the-cimarron-free-admission/
CATEGORIES:Movie Club,Showtime
ATTACH;FMTTYPE=image/jpeg:https://garlandtheater.org/wp-content/uploads/2026/02/spiritstallion.jpg
END:VEVENT
BEGIN:VEVENT
DTSTART;TZID=America/Los_Angeles:20260330T180000
DTEND;TZID=America/Los_Angeles:20260330T180000
DTSTAMP:20260422T202102
CREATED:20260302T025859Z
LAST-MODIFIED:20260302T025859Z
UID:5874-1774893600-1774893600@garlandtheater.org
SUMMARY:SLC! Punk  Free with Movie Club
DESCRIPTION:
URL:https://garlandtheater.org/event/slc-punk-free-with-movie-club/
CATEGORIES:Movie Club,Showtime
ATTACH;FMTTYPE=image/jpeg:https://garlandtheater.org/wp-content/uploads/2026/03/SLCpunkposter.jpg
END:VEVENT
BEGIN:VEVENT
DTSTART;TZID=America/Los_Angeles:20260329T173000
DTEND;TZID=America/Los_Angeles:20260329T173000
DTSTAMP:20260422T202102
CREATED:20260210T013951Z
LAST-MODIFIED:20260217T014932Z
UID:5717-1774805400-1774805400@garlandtheater.org
SUMMARY:Blade Runner  Garland Book Club  Free with Movie Club
DESCRIPTION:
URL:https://garlandtheater.org/event/blade-runner-garland-book-club-free-with-movie-club/
CATEGORIES:Garland Book Club,Movie Club,Showtime,Special Event
ATTACH;FMTTYPE=image/jpeg:https://garlandtheater.org/wp-content/uploads/2024/10/BladeRunner.jpg
END:VEVENT
BEGIN:VEVENT
DTSTART;TZID=America/Los_Angeles:20260329T140000
DTEND;TZID=America/Los_Angeles:20260329T140000
DTSTAMP:20260422T202102
CREATED:20260216T225849Z
LAST-MODIFIED:20260216T225849Z
UID:5763-1774792800-1774792800@garlandtheater.org
SUMMARY:A Minecraft Movie  Free Admission  With Movie Club
DESCRIPTION:
URL:https://garlandtheater.org/event/a-minecraft-movie-free-admission-with-movie-club/
CATEGORIES:Movie Club,Showtime
ATTACH;FMTTYPE=image/png:https://garlandtheater.org/wp-content/uploads/2026/02/minecraft.png
END:VEVENT
BEGIN:VEVENT
DTSTART;TZID=America/Los_Angeles:20260328T140000
DTEND;TZID=America/Los_Angeles:20260328T140000
DTSTAMP:20260422T202102
CREATED:20260217T023738Z
LAST-MODIFIED:20260217T023738Z
UID:5813-1774706400-1774706400@garlandtheater.org
SUMMARY:A Minecraft Movie  Free Admission
DESCRIPTION:
URL:https://garlandtheater.org/event/a-minecraft-movie-free-admission/
CATEGORIES:Movie Club,Showtime
ATTACH;FMTTYPE=image/png:https://garlandtheater.org/wp-content/uploads/2026/02/minecraft.png
END:VEVENT
BEGIN:VEVENT
DTSTART;TZID=America/Los_Angeles:20260323T180000
DTEND;TZID=America/Los_Angeles:20260323T180000
DTSTAMP:20260422T202102
CREATED:20260302T025258Z
LAST-MODIFIED:20260302T025936Z
UID:5869-1774288800-1774288800@garlandtheater.org
SUMMARY:Mars Attacks  30th Anniversary  Free with Movie Club
DESCRIPTION:
URL:https://garlandtheater.org/event/mars-attacks-30th-anniversary-free-with-movie-club/
CATEGORIES:Movie Club,Showtime
ATTACH;FMTTYPE=image/jpeg:https://garlandtheater.org/wp-content/uploads/2026/03/marsattacksposter.jpg
END:VEVENT
BEGIN:VEVENT
DTSTART;TZID=America/Los_Angeles:20260322T170000
DTEND;TZID=America/Los_Angeles:20260322T170000
DTSTAMP:20260422T202102
CREATED:20260223T042934Z
LAST-MODIFIED:20260320T171601Z
UID:5827-1774198800-1774198800@garlandtheater.org
SUMMARY:K-Pop Demon Hunters  Free Admission
DESCRIPTION:
URL:https://garlandtheater.org/event/k-pop-demon-hunter-2/
CATEGORIES:Movie Club,Showtime
ATTACH;FMTTYPE=image/jpeg:https://garlandtheater.org/wp-content/uploads/2026/02/k-popdemonhuntersposter.jpg
END:VEVENT
BEGIN:VEVENT
DTSTART;TZID=America/Los_Angeles:20260322T140000
DTEND;TZID=America/Los_Angeles:20260322T140000
DTSTAMP:20260422T202102
CREATED:20260216T230637Z
LAST-MODIFIED:20260216T230637Z
UID:5771-1774188000-1774188000@garlandtheater.org
SUMMARY:Trolls  10th Anniversary  Free Admission  With Movie Club
DESCRIPTION:
URL:https://garlandtheater.org/event/trolls-10th-anniversary-free-admission-with-movie-club/
CATEGORIES:Movie Club,Showtime
ATTACH;FMTTYPE=image/jpeg:https://garlandtheater.org/wp-content/uploads/2024/05/Trolls.jpg
END:VEVENT
BEGIN:VEVENT
DTSTART;TZID=America/Los_Angeles:20260321T160000
DTEND;TZID=America/Los_Angeles:20260321T160000
DTSTAMP:20260422T202102
CREATED:20260320T170859Z
LAST-MODIFIED:20260320T170859Z
UID:5953-1774108800-1774108800@garlandtheater.org
SUMMARY:MARCH MADNESS  Gonzaga Men Vs.  Texas Longhorns  Free Admission
DESCRIPTION:
URL:https://garlandtheater.org/event/march-madness-gonzaga-men-vs-texas-longhorns-free-admission/
CATEGORIES:Movie Club,Showtime,Special Event
ATTACH;FMTTYPE=image/webp:https://garlandtheater.org/wp-content/uploads/2026/03/Gonzaga.webp
END:VEVENT
BEGIN:VEVENT
DTSTART;TZID=America/Los_Angeles:20260321T133000
DTEND;TZID=America/Los_Angeles:20260321T133000
DTSTAMP:20260422T202102
CREATED:20260217T012707Z
LAST-MODIFIED:20260320T170706Z
UID:5790-1774099800-1774099800@garlandtheater.org
SUMMARY:Trolls  10th Anniversary  Free Admission
DESCRIPTION:
URL:https://garlandtheater.org/event/trolls-10th-anniversary-free-admission/
CATEGORIES:Movie Club,Showtime
ATTACH;FMTTYPE=image/jpeg:https://garlandtheater.org/wp-content/uploads/2024/05/Trolls.jpg
END:VEVENT
BEGIN:VEVENT
DTSTART;TZID=America/Los_Angeles:20260320T123000
DTEND;TZID=America/Los_Angeles:20260320T123000
DTSTAMP:20260422T202102
CREATED:20260318T202518Z
LAST-MODIFIED:20260318T202518Z
UID:5940-1774009800-1774009800@garlandtheater.org
SUMMARY:MARCH MADNESS  Gonzaga Women vs.  Ole Miss
DESCRIPTION:
URL:https://garlandtheater.org/event/march-madness-gonzaga-women-vs-ole-miss/
CATEGORIES:Movie Club,Showtime,Special Event
ATTACH;FMTTYPE=image/webp:https://garlandtheater.org/wp-content/uploads/2026/03/Gonzaga.webp
END:VEVENT
BEGIN:VEVENT
DTSTART;TZID=America/Los_Angeles:20260319T190000
DTEND;TZID=America/Los_Angeles:20260319T190000
DTSTAMP:20260422T202102
CREATED:20260318T202301Z
LAST-MODIFIED:20260318T202301Z
UID:5937-1773946800-1773946800@garlandtheater.org
SUMMARY:MARCH MADNESS  Gonzaga Men vs.  Kennesaw St.
DESCRIPTION:
URL:https://garlandtheater.org/event/march-madness-gonzaga-men-vs-kennesaw-st/
CATEGORIES:Movie Club,Showtime,Special Event
ATTACH;FMTTYPE=image/webp:https://garlandtheater.org/wp-content/uploads/2026/03/Gonzaga.webp
END:VEVENT
BEGIN:VEVENT
DTSTART;TZID=America/Los_Angeles:20260318T180000
DTEND;TZID=America/Los_Angeles:20260318T180000
DTSTAMP:20260422T202102
CREATED:20260302T024947Z
LAST-MODIFIED:20260302T025918Z
UID:5866-1773856800-1773856800@garlandtheater.org
SUMMARY:Legend (1985)  Free with Movie Club
DESCRIPTION:
URL:https://garlandtheater.org/event/legend-1985/
CATEGORIES:Movie Club,Showtime
ATTACH;FMTTYPE=image/jpeg:https://garlandtheater.org/wp-content/uploads/2026/03/Legendposter-scaled.jpg
END:VEVENT
BEGIN:VEVENT
DTSTART;TZID=America/Los_Angeles:20260316T180000
DTEND;TZID=America/Los_Angeles:20260316T180000
DTSTAMP:20260422T202102
CREATED:20260314T031132Z
LAST-MODIFIED:20260314T031132Z
UID:5919-1773684000-1773684000@garlandtheater.org
SUMMARY:Romeo + Juliet  Free with Movie Club
DESCRIPTION:
URL:https://garlandtheater.org/event/romeo-juliet-free-with-movie-club/
CATEGORIES:Movie Club,Showtime
ATTACH;FMTTYPE=image/jpeg:https://garlandtheater.org/wp-content/uploads/2026/03/RomeoJulietposter.jpg
END:VEVENT
BEGIN:VEVENT
DTSTART;TZID=America/Los_Angeles:20260315T133000
DTEND;TZID=America/Los_Angeles:20260315T133000
DTSTAMP:20260422T202102
CREATED:20260217T002438Z
LAST-MODIFIED:20260313T230918Z
UID:5779-1773581400-1773581400@garlandtheater.org
SUMMARY:The Rugrats Movie  Free Admission  With Movie Club
DESCRIPTION:
URL:https://garlandtheater.org/event/the-rugrats-movie-free-admission-with-movie-club/
CATEGORIES:Movie Club,Showtime
ATTACH;FMTTYPE=image/jpeg:https://garlandtheater.org/wp-content/uploads/2026/02/Rugrats.jpg
END:VEVENT
BEGIN:VEVENT
DTSTART;TZID=America/Los_Angeles:20260314T140000
DTEND;TZID=America/Los_Angeles:20260314T140000
DTSTAMP:20260422T202102
CREATED:20260217T005110Z
LAST-MODIFIED:20260217T005110Z
UID:5784-1773496800-1773496800@garlandtheater.org
SUMMARY:The Rugrats Movie  Free Admission
DESCRIPTION:
URL:https://garlandtheater.org/event/the-rugrats-movie-free-admission/
CATEGORIES:Movie Club,Showtime
ATTACH;FMTTYPE=image/jpeg:https://garlandtheater.org/wp-content/uploads/2026/02/Rugrats.jpg
END:VEVENT
BEGIN:VEVENT
DTSTART;TZID=America/Los_Angeles:20260314T110000
DTEND;TZID=America/Los_Angeles:20260314T110000
DTSTAMP:20260422T202102
CREATED:20260302T024155Z
LAST-MODIFIED:20260302T030452Z
UID:5864-1773486000-1773486000@garlandtheater.org
SUMMARY:The Iron Giant  Sensory Friendly Showing  Free with Movie Club
DESCRIPTION:
URL:https://garlandtheater.org/event/the-iron-giant-sensory-friendly-showing/
CATEGORIES:Movie Club,Showtime
ATTACH;FMTTYPE=image/jpeg:https://garlandtheater.org/wp-content/uploads/2024/02/mThOw5rXLtdbY3WmuTsS9zsQBMG.jpg
END:VEVENT
END:VCALENDAR