BEGIN:VCALENDAR
VERSION:2.0
PRODID:-//The Garland Theater - ECPv6.15.20//NONSGML v1.0//EN
CALSCALE:GREGORIAN
METHOD:PUBLISH
X-ORIGINAL-URL:https://garlandtheater.org
X-WR-CALDESC:Events for The Garland Theater
REFRESH-INTERVAL;VALUE=DURATION:PT1H
X-Robots-Tag:noindex
X-PUBLISHED-TTL:PT1H
BEGIN:VTIMEZONE
TZID:America/Los_Angeles
BEGIN:DAYLIGHT
TZOFFSETFROM:-0800
TZOFFSETTO:-0700
TZNAME:PDT
DTSTART:20250309T100000
END:DAYLIGHT
BEGIN:STANDARD
TZOFFSETFROM:-0700
TZOFFSETTO:-0800
TZNAME:PST
DTSTART:20251102T090000
END:STANDARD
BEGIN:DAYLIGHT
TZOFFSETFROM:-0800
TZOFFSETTO:-0700
TZNAME:PDT
DTSTART:20260308T100000
END:DAYLIGHT
BEGIN:STANDARD
TZOFFSETFROM:-0700
TZOFFSETTO:-0800
TZNAME:PST
DTSTART:20261101T090000
END:STANDARD
BEGIN:DAYLIGHT
TZOFFSETFROM:-0800
TZOFFSETTO:-0700
TZNAME:PDT
DTSTART:20270314T100000
END:DAYLIGHT
BEGIN:STANDARD
TZOFFSETFROM:-0700
TZOFFSETTO:-0800
TZNAME:PST
DTSTART:20271107T090000
END:STANDARD
END:VTIMEZONE
BEGIN:VEVENT
DTSTART;TZID=America/Los_Angeles:20260319T190000
DTEND;TZID=America/Los_Angeles:20260319T190000
DTSTAMP:20260421T021312
CREATED:20260318T202301Z
LAST-MODIFIED:20260318T202301Z
UID:5937-1773946800-1773946800@garlandtheater.org
SUMMARY:MARCH MADNESS  Gonzaga Men vs.  Kennesaw St.
DESCRIPTION:
URL:https://garlandtheater.org/event/march-madness-gonzaga-men-vs-kennesaw-st/
CATEGORIES:Movie Club,Showtime,Special Event
ATTACH;FMTTYPE=image/webp:https://garlandtheater.org/wp-content/uploads/2026/03/Gonzaga.webp
END:VEVENT
BEGIN:VEVENT
DTSTART;TZID=America/Los_Angeles:20260318T180000
DTEND;TZID=America/Los_Angeles:20260318T180000
DTSTAMP:20260421T021312
CREATED:20260302T024947Z
LAST-MODIFIED:20260302T025918Z
UID:5866-1773856800-1773856800@garlandtheater.org
SUMMARY:Legend (1985)  Free with Movie Club
DESCRIPTION:
URL:https://garlandtheater.org/event/legend-1985/
CATEGORIES:Movie Club,Showtime
ATTACH;FMTTYPE=image/jpeg:https://garlandtheater.org/wp-content/uploads/2026/03/Legendposter-scaled.jpg
END:VEVENT
BEGIN:VEVENT
DTSTART;TZID=America/Los_Angeles:20260316T180000
DTEND;TZID=America/Los_Angeles:20260316T180000
DTSTAMP:20260421T021312
CREATED:20260314T031132Z
LAST-MODIFIED:20260314T031132Z
UID:5919-1773684000-1773684000@garlandtheater.org
SUMMARY:Romeo + Juliet  Free with Movie Club
DESCRIPTION:
URL:https://garlandtheater.org/event/romeo-juliet-free-with-movie-club/
CATEGORIES:Movie Club,Showtime
ATTACH;FMTTYPE=image/jpeg:https://garlandtheater.org/wp-content/uploads/2026/03/RomeoJulietposter.jpg
END:VEVENT
BEGIN:VEVENT
DTSTART;TZID=America/Los_Angeles:20260315T133000
DTEND;TZID=America/Los_Angeles:20260315T133000
DTSTAMP:20260421T021312
CREATED:20260217T002438Z
LAST-MODIFIED:20260313T230918Z
UID:5779-1773581400-1773581400@garlandtheater.org
SUMMARY:The Rugrats Movie  Free Admission  With Movie Club
DESCRIPTION:
URL:https://garlandtheater.org/event/the-rugrats-movie-free-admission-with-movie-club/
CATEGORIES:Movie Club,Showtime
ATTACH;FMTTYPE=image/jpeg:https://garlandtheater.org/wp-content/uploads/2026/02/Rugrats.jpg
END:VEVENT
BEGIN:VEVENT
DTSTART;TZID=America/Los_Angeles:20260314T140000
DTEND;TZID=America/Los_Angeles:20260314T140000
DTSTAMP:20260421T021312
CREATED:20260217T005110Z
LAST-MODIFIED:20260217T005110Z
UID:5784-1773496800-1773496800@garlandtheater.org
SUMMARY:The Rugrats Movie  Free Admission
DESCRIPTION:
URL:https://garlandtheater.org/event/the-rugrats-movie-free-admission/
CATEGORIES:Movie Club,Showtime
ATTACH;FMTTYPE=image/jpeg:https://garlandtheater.org/wp-content/uploads/2026/02/Rugrats.jpg
END:VEVENT
BEGIN:VEVENT
DTSTART;TZID=America/Los_Angeles:20260314T110000
DTEND;TZID=America/Los_Angeles:20260314T110000
DTSTAMP:20260421T021312
CREATED:20260302T024155Z
LAST-MODIFIED:20260302T030452Z
UID:5864-1773486000-1773486000@garlandtheater.org
SUMMARY:The Iron Giant  Sensory Friendly Showing  Free with Movie Club
DESCRIPTION:
URL:https://garlandtheater.org/event/the-iron-giant-sensory-friendly-showing/
CATEGORIES:Movie Club,Showtime
ATTACH;FMTTYPE=image/jpeg:https://garlandtheater.org/wp-content/uploads/2024/02/mThOw5rXLtdbY3WmuTsS9zsQBMG.jpg
END:VEVENT
BEGIN:VEVENT
DTSTART;TZID=America/Los_Angeles:20260309T180000
DTEND;TZID=America/Los_Angeles:20260309T180000
DTSTAMP:20260421T021312
CREATED:20260210T013302Z
LAST-MODIFIED:20260217T021710Z
UID:5712-1773079200-1773079200@garlandtheater.org
SUMMARY:Best Picture Nominee  Train Dreams  Free Admission  with Movie Club
DESCRIPTION:
URL:https://garlandtheater.org/event/train-dreams-free-with-movie-club-2/
CATEGORIES:Movie Club,Showtime
ATTACH;FMTTYPE=image/jpeg:https://garlandtheater.org/wp-content/uploads/2026/02/Traindreamsposter.jpg
END:VEVENT
BEGIN:VEVENT
DTSTART;TZID=America/Los_Angeles:20260308T170000
DTEND;TZID=America/Los_Angeles:20260308T170000
DTSTAMP:20260421T021312
CREATED:20260210T013235Z
LAST-MODIFIED:20260217T022753Z
UID:5709-1772989200-1772989200@garlandtheater.org
SUMMARY:Best Picture Nominee  Train Dreams  Free with Movie Club
DESCRIPTION:
URL:https://garlandtheater.org/event/train-dreams-free-with-movie-club/
CATEGORIES:Movie Club,Showtime
ATTACH;FMTTYPE=image/jpeg:https://garlandtheater.org/wp-content/uploads/2026/02/Traindreamsposter.jpg
END:VEVENT
BEGIN:VEVENT
DTSTART;TZID=America/Los_Angeles:20260308T140000
DTEND;TZID=America/Los_Angeles:20260308T140000
DTSTAMP:20260421T021312
CREATED:20260217T021136Z
LAST-MODIFIED:20260217T021136Z
UID:5807-1772978400-1772978400@garlandtheater.org
SUMMARY:The Land Before Time  Free Admission  With Movie Club
DESCRIPTION:
URL:https://garlandtheater.org/event/the-land-before-time-free-admission-with-movie-club/
CATEGORIES:Movie Club,Showtime
ATTACH;FMTTYPE=image/jpeg:https://garlandtheater.org/wp-content/uploads/2024/05/LandBeforeTime.jpg
END:VEVENT
BEGIN:VEVENT
DTSTART;TZID=America/Los_Angeles:20260307T140000
DTEND;TZID=America/Los_Angeles:20260307T140000
DTSTAMP:20260421T021312
CREATED:20260216T231338Z
LAST-MODIFIED:20260216T231338Z
UID:5773-1772892000-1772892000@garlandtheater.org
SUMMARY:The Land Before Time  Free Admission
DESCRIPTION:
URL:https://garlandtheater.org/event/the-land-before-time-free-admission-4/
CATEGORIES:Movie Club,Showtime
ATTACH;FMTTYPE=image/jpeg:https://garlandtheater.org/wp-content/uploads/2024/05/LandBeforeTime.jpg
END:VEVENT
BEGIN:VEVENT
DTSTART;TZID=America/Los_Angeles:20260303T130000
DTEND;TZID=America/Los_Angeles:20260303T130000
DTSTAMP:20260421T021312
CREATED:20260210T012812Z
LAST-MODIFIED:20260210T012823Z
UID:5705-1772542800-1772542800@garlandtheater.org
SUMMARY:Canadian Bacon  Free with Movie Club
DESCRIPTION:
URL:https://garlandtheater.org/event/canadian-bacon/
CATEGORIES:Movie Club,Showtime
ATTACH;FMTTYPE=image/jpeg:https://garlandtheater.org/wp-content/uploads/2026/02/canadianbaconposter.jpg
END:VEVENT
BEGIN:VEVENT
DTSTART;TZID=America/Los_Angeles:20260302T180000
DTEND;TZID=America/Los_Angeles:20260302T180000
DTSTAMP:20260421T021312
CREATED:20260216T225019Z
LAST-MODIFIED:20260216T225019Z
UID:5758-1772474400-1772474400@garlandtheater.org
SUMMARY:Best Picture Nominee  Frankenstein  Free Admission  With Movie Club
DESCRIPTION:
URL:https://garlandtheater.org/event/best-picture-nominee-frankenstein-free-admission-with-movie-club-2/
CATEGORIES:Movie Club,Showtime
ATTACH;FMTTYPE=image/jpeg:https://garlandtheater.org/wp-content/uploads/2026/02/Frankenstein.jpg
END:VEVENT
BEGIN:VEVENT
DTSTART;TZID=America/Los_Angeles:20260301T170000
DTEND;TZID=America/Los_Angeles:20260301T170000
DTSTAMP:20260421T021312
CREATED:20260216T224138Z
LAST-MODIFIED:20260216T224138Z
UID:5755-1772384400-1772384400@garlandtheater.org
SUMMARY:Best Picture Nominee  Frankenstein  Free Admission  With Movie Club
DESCRIPTION:
URL:https://garlandtheater.org/event/best-picture-nominee-frankenstein-free-admission-with-movie-club/
CATEGORIES:Movie Club,Showtime
ATTACH;FMTTYPE=image/jpeg:https://garlandtheater.org/wp-content/uploads/2026/02/Frankenstein.jpg
END:VEVENT
BEGIN:VEVENT
DTSTART;TZID=America/Los_Angeles:20260301T140000
DTEND;TZID=America/Los_Angeles:20260301T140000
DTSTAMP:20260421T021312
CREATED:20260216T230022Z
LAST-MODIFIED:20260216T230022Z
UID:5766-1772373600-1772373600@garlandtheater.org
SUMMARY:Puss in Boots  15th Anniversary  Free Admission  With Movie Club
DESCRIPTION:
URL:https://garlandtheater.org/event/puss-in-boots-15th-anniversary-free-admission-with-movie-club/
CATEGORIES:Movie Club,Showtime
ATTACH;FMTTYPE=image/png:https://garlandtheater.org/wp-content/uploads/2026/02/pussinboots.png
END:VEVENT
BEGIN:VEVENT
DTSTART;TZID=America/Los_Angeles:20260228T140000
DTEND;TZID=America/Los_Angeles:20260228T140000
DTSTAMP:20260421T021312
CREATED:20260216T225314Z
LAST-MODIFIED:20260216T225314Z
UID:5760-1772287200-1772287200@garlandtheater.org
SUMMARY:Puss in Boots  15th Anniversary  Free Admission
DESCRIPTION:
URL:https://garlandtheater.org/event/puss-in-boots-15th-anniversary-free-admission/
CATEGORIES:Movie Club,Showtime
ATTACH;FMTTYPE=image/png:https://garlandtheater.org/wp-content/uploads/2026/02/pussinboots.png
END:VEVENT
BEGIN:VEVENT
DTSTART;TZID=America/Los_Angeles:20260223T180000
DTEND;TZID=America/Los_Angeles:20260223T180000
DTSTAMP:20260421T021312
CREATED:20260202T003219Z
LAST-MODIFIED:20260202T003219Z
UID:5673-1771869600-1771869600@garlandtheater.org
SUMMARY:White Men Can't Jump  Free with Movie Club
DESCRIPTION:
URL:https://garlandtheater.org/event/white-men-cant-jump-free-with-movie-club/
CATEGORIES:Movie Club,Showtime
ATTACH;FMTTYPE=image/jpeg:https://garlandtheater.org/wp-content/uploads/2026/02/Whitemencantjumpposter.jpg
END:VEVENT
BEGIN:VEVENT
DTSTART;TZID=America/Los_Angeles:20260222T170000
DTEND;TZID=America/Los_Angeles:20260222T170000
DTSTAMP:20260421T021312
CREATED:20260202T002952Z
LAST-MODIFIED:20260202T003247Z
UID:5670-1771779600-1771779600@garlandtheater.org
SUMMARY:Glory  Free with Movie Club
DESCRIPTION:
URL:https://garlandtheater.org/event/glory/
CATEGORIES:Movie Club,Showtime
ATTACH;FMTTYPE=image/jpeg:https://garlandtheater.org/wp-content/uploads/2026/02/Gloryposter.jpg
END:VEVENT
BEGIN:VEVENT
DTSTART;TZID=America/Los_Angeles:20260222T140000
DTEND;TZID=America/Los_Angeles:20260222T140000
DTSTAMP:20260421T021312
CREATED:20260202T002751Z
LAST-MODIFIED:20260202T002751Z
UID:5668-1771768800-1771768800@garlandtheater.org
SUMMARY:Across the Spiderverse  Free Admission with Movie Club
DESCRIPTION:
URL:https://garlandtheater.org/event/across-the-spiderverse-free-admission-with-movie-club/
CATEGORIES:Movie Club,Showtime
ATTACH;FMTTYPE=image/jpeg:https://garlandtheater.org/wp-content/uploads/2026/02/acrossthespiderverseposter.jpg
END:VEVENT
BEGIN:VEVENT
DTSTART;TZID=America/Los_Angeles:20260218T190000
DTEND;TZID=America/Los_Angeles:20260218T190000
DTSTAMP:20260421T021312
CREATED:20260117T212017Z
LAST-MODIFIED:20260117T212017Z
UID:5613-1771441200-1771441200@garlandtheater.org
SUMMARY:The People Under the Stairs  35th Anniversary  Free Admission  With Movie Club
DESCRIPTION:
URL:https://garlandtheater.org/event/the-people-under-the-stairs-35th-anniversary-free-admission-with-movie-club/
CATEGORIES:Movie Club,Showtime
ATTACH;FMTTYPE=image/jpeg:https://garlandtheater.org/wp-content/uploads/2026/01/peopleunderstairs.jpg
END:VEVENT
BEGIN:VEVENT
DTSTART;TZID=America/Los_Angeles:20260216T180000
DTEND;TZID=America/Los_Angeles:20260216T180000
DTSTAMP:20260421T021312
CREATED:20260117T211806Z
LAST-MODIFIED:20260117T211806Z
UID:5610-1771264800-1771264800@garlandtheater.org
SUMMARY:Black Dynamite  Free Admission  With Movie Club
DESCRIPTION:
URL:https://garlandtheater.org/event/black-dynamite-free-admission-with-movie-club/
CATEGORIES:Movie Club,Showtime
ATTACH;FMTTYPE=image/jpeg:https://garlandtheater.org/wp-content/uploads/2026/01/blackdynamite.jpg
END:VEVENT
BEGIN:VEVENT
DTSTART;TZID=America/Los_Angeles:20260215T170000
DTEND;TZID=America/Los_Angeles:20260215T170000
DTSTAMP:20260421T021312
CREATED:20260116T214316Z
LAST-MODIFIED:20260116T214316Z
UID:5579-1771174800-1771174800@garlandtheater.org
SUMMARY:The Bodyguard  Free Admission  With Movie Club
DESCRIPTION:
URL:https://garlandtheater.org/event/the-bodyguard-free-admission-with-movie-club/
CATEGORIES:Movie Club,Showtime
ATTACH;FMTTYPE=image/jpeg:https://garlandtheater.org/wp-content/uploads/2026/01/bodyguard.jpeg
END:VEVENT
BEGIN:VEVENT
DTSTART;TZID=America/Los_Angeles:20260215T140000
DTEND;TZID=America/Los_Angeles:20260215T140000
DTSTAMP:20260421T021312
CREATED:20260116T214112Z
LAST-MODIFIED:20260116T214112Z
UID:5577-1771164000-1771164000@garlandtheater.org
SUMMARY:Spider-Man  Into the Spiderverse  Free Admission  With Movie Club
DESCRIPTION:
URL:https://garlandtheater.org/event/spider-man-into-the-spiderverse-free-admission-with-movie-club/
CATEGORIES:Movie Club,Showtime
ATTACH;FMTTYPE=image/jpeg:https://garlandtheater.org/wp-content/uploads/2026/01/intospiderverse.jpeg
END:VEVENT
BEGIN:VEVENT
DTSTART;TZID=America/Los_Angeles:20260214T140000
DTEND;TZID=America/Los_Angeles:20260214T140000
DTSTAMP:20260421T021312
CREATED:20260116T211309Z
LAST-MODIFIED:20260116T211309Z
UID:5574-1771077600-1771077600@garlandtheater.org
SUMMARY:Spider-Man  Into the Spiderverse  Free Admission
DESCRIPTION:
URL:https://garlandtheater.org/event/spider-man-into-the-spiderverse-free-admission/
CATEGORIES:Movie Club,Showtime
ATTACH;FMTTYPE=image/jpeg:https://garlandtheater.org/wp-content/uploads/2026/01/intospiderverse.jpeg
END:VEVENT
BEGIN:VEVENT
DTSTART;TZID=America/Los_Angeles:20260209T180000
DTEND;TZID=America/Los_Angeles:20260209T180000
DTSTAMP:20260421T021312
CREATED:20260116T211049Z
LAST-MODIFIED:20260116T211049Z
UID:5571-1770660000-1770660000@garlandtheater.org
SUMMARY:Rocky  50th Anniversary  Free Admission  With Movie Club
DESCRIPTION:
URL:https://garlandtheater.org/event/rocky-50th-anniversary-free-admission-with-movie-club/
CATEGORIES:Movie Club,Showtime
ATTACH;FMTTYPE=image/jpeg:https://garlandtheater.org/wp-content/uploads/2026/01/rocky.jpeg
END:VEVENT
BEGIN:VEVENT
DTSTART;TZID=America/Los_Angeles:20260207T140000
DTEND;TZID=America/Los_Angeles:20260207T140000
DTSTAMP:20260421T021312
CREATED:20260116T210438Z
LAST-MODIFIED:20260116T210438Z
UID:5568-1770472800-1770472800@garlandtheater.org
SUMMARY:Scooby Doo  Harlem Globetrotters  Free Admission
DESCRIPTION:
URL:https://garlandtheater.org/event/scooby-doo-harlem-globetrotters-free-admission/
CATEGORIES:Movie Club,Showtime
ATTACH;FMTTYPE=image/jpeg:https://garlandtheater.org/wp-content/uploads/2026/01/scoobyharlem.jpeg
END:VEVENT
BEGIN:VEVENT
DTSTART;TZID=America/Los_Angeles:20260203T130000
DTEND;TZID=America/Los_Angeles:20260203T130000
DTSTAMP:20260421T021312
CREATED:20260202T002152Z
LAST-MODIFIED:20260202T002152Z
UID:5662-1770123600-1770123600@garlandtheater.org
SUMMARY:What Women Want
DESCRIPTION:
URL:https://garlandtheater.org/event/what-women-want/
CATEGORIES:Movie Club,Showtime
ATTACH;FMTTYPE=image/jpeg:https://garlandtheater.org/wp-content/uploads/2026/02/whatwomenwantposter.jpg
END:VEVENT
BEGIN:VEVENT
DTSTART;TZID=America/Los_Angeles:20260202T180000
DTEND;TZID=America/Los_Angeles:20260202T180000
DTSTAMP:20260421T021312
CREATED:20260110T211109Z
LAST-MODIFIED:20260110T211109Z
UID:5541-1770055200-1770055200@garlandtheater.org
SUMMARY:Jackie Brown  Free Admission  With Movie Club
DESCRIPTION:
URL:https://garlandtheater.org/event/jackie-brown-free-admission-with-movie-club/
CATEGORIES:Movie Club,Showtime
ATTACH;FMTTYPE=image/jpeg:https://garlandtheater.org/wp-content/uploads/2026/01/JackieBrown.jpg
END:VEVENT
BEGIN:VEVENT
DTSTART;TZID=America/Los_Angeles:20260201T170000
DTEND;TZID=America/Los_Angeles:20260201T170000
DTSTAMP:20260421T021312
CREATED:20260110T210923Z
LAST-MODIFIED:20260110T210923Z
UID:5538-1769965200-1769965200@garlandtheater.org
SUMMARY:The Help  15th Anniversary  Free Admission  With Movie Club
DESCRIPTION:
URL:https://garlandtheater.org/event/the-help-15th-anniversary-free-admission-with-movie-club/
CATEGORIES:Movie Club,Showtime
ATTACH;FMTTYPE=image/jpeg:https://garlandtheater.org/wp-content/uploads/2026/01/TheHelp.jpg
END:VEVENT
BEGIN:VEVENT
DTSTART;TZID=America/Los_Angeles:20260201T140000
DTEND;TZID=America/Los_Angeles:20260201T140000
DTSTAMP:20260421T021312
CREATED:20260117T042119Z
LAST-MODIFIED:20260117T042119Z
UID:5593-1769954400-1769954400@garlandtheater.org
SUMMARY:Atlantis  Free with Movie Club
DESCRIPTION:
URL:https://garlandtheater.org/event/atlantis-free-with-movie-club/
CATEGORIES:Movie Club,Showtime
ATTACH;FMTTYPE=image/jpeg:https://garlandtheater.org/wp-content/uploads/2026/01/atlantisposter.jpg
END:VEVENT
BEGIN:VEVENT
DTSTART;TZID=America/Los_Angeles:20260130T200000
DTEND;TZID=America/Los_Angeles:20260130T200000
DTSTAMP:20260421T021312
CREATED:20260122T232700Z
LAST-MODIFIED:20260127T004232Z
UID:5631-1769803200-1769803200@garlandtheater.org
SUMMARY:Cannibal Holocaust  21 and older  Free with Movie Club
DESCRIPTION:
URL:https://garlandtheater.org/event/cannibal-holocaust-free-with-movie-club/
CATEGORIES:Movie Club,Showtime
ATTACH;FMTTYPE=image/jpeg:https://garlandtheater.org/wp-content/uploads/2026/01/cannibalholocaustposter-scaled.jpg
END:VEVENT
END:VCALENDAR