BEGIN:VCALENDAR
VERSION:2.0
PRODID:-//The Garland Theater - ECPv6.15.20//NONSGML v1.0//EN
CALSCALE:GREGORIAN
METHOD:PUBLISH
X-ORIGINAL-URL:https://garlandtheater.org
X-WR-CALDESC:Events for The Garland Theater
REFRESH-INTERVAL;VALUE=DURATION:PT1H
X-Robots-Tag:noindex
X-PUBLISHED-TTL:PT1H
BEGIN:VTIMEZONE
TZID:America/Los_Angeles
BEGIN:DAYLIGHT
TZOFFSETFROM:-0800
TZOFFSETTO:-0700
TZNAME:PDT
DTSTART:20250309T100000
END:DAYLIGHT
BEGIN:STANDARD
TZOFFSETFROM:-0700
TZOFFSETTO:-0800
TZNAME:PST
DTSTART:20251102T090000
END:STANDARD
BEGIN:DAYLIGHT
TZOFFSETFROM:-0800
TZOFFSETTO:-0700
TZNAME:PDT
DTSTART:20260308T100000
END:DAYLIGHT
BEGIN:STANDARD
TZOFFSETFROM:-0700
TZOFFSETTO:-0800
TZNAME:PST
DTSTART:20261101T090000
END:STANDARD
BEGIN:DAYLIGHT
TZOFFSETFROM:-0800
TZOFFSETTO:-0700
TZNAME:PDT
DTSTART:20270314T100000
END:DAYLIGHT
BEGIN:STANDARD
TZOFFSETFROM:-0700
TZOFFSETTO:-0800
TZNAME:PST
DTSTART:20271107T090000
END:STANDARD
END:VTIMEZONE
BEGIN:VEVENT
DTSTART;TZID=America/Los_Angeles:20260503T170000
DTEND;TZID=America/Los_Angeles:20260503T170000
DTSTAMP:20260419T050214
CREATED:20260405T221006Z
LAST-MODIFIED:20260405T221006Z
UID:6062-1777827600-1777827600@garlandtheater.org
SUMMARY:Star Wars Episode V
DESCRIPTION:
URL:https://garlandtheater.org/event/star-wars-episode-v-2/
CATEGORIES:Showtime,Special Event
ATTACH;FMTTYPE=image/jpeg:https://garlandtheater.org/wp-content/uploads/2026/04/episode5poster-scaled.jpg
END:VEVENT
BEGIN:VEVENT
DTSTART;TZID=America/Los_Angeles:20260504T180000
DTEND;TZID=America/Los_Angeles:20260504T180000
DTSTAMP:20260419T050214
CREATED:20260405T221644Z
LAST-MODIFIED:20260405T221644Z
UID:6065-1777917600-1777917600@garlandtheater.org
SUMMARY:Star Wars Episode 6
DESCRIPTION:
URL:https://garlandtheater.org/event/star-wars-episode-6/
CATEGORIES:Showtime,Special Event
ATTACH;FMTTYPE=image/jpeg:https://garlandtheater.org/wp-content/uploads/2026/04/episode6-scaled.jpg
END:VEVENT
BEGIN:VEVENT
DTSTART;TZID=America/Los_Angeles:20260505T130000
DTEND;TZID=America/Los_Angeles:20260505T130000
DTSTAMP:20260419T050214
CREATED:20260409T205621Z
LAST-MODIFIED:20260409T211356Z
UID:6073-1777986000-1777986000@garlandtheater.org
SUMMARY:Las Vegas  Free with Movie Club
DESCRIPTION:
URL:https://garlandtheater.org/event/las-vegas/
CATEGORIES:Movie Club,Showtime
ATTACH;FMTTYPE=image/jpeg:https://garlandtheater.org/wp-content/uploads/2026/04/lasvegasposter.jpg
END:VEVENT
BEGIN:VEVENT
DTSTART;TZID=America/Los_Angeles:20260507T193000
DTEND;TZID=America/Los_Angeles:20260507T193000
DTSTAMP:20260419T050214
CREATED:20260409T210001Z
LAST-MODIFIED:20260409T210001Z
UID:6076-1778182200-1778182200@garlandtheater.org
SUMMARY:F3F3J Live Comedy with  Casey McLain
DESCRIPTION:
URL:https://garlandtheater.org/event/f3f3j-live-comedy-with-casey-mclain/
CATEGORIES:Showtime,Special Event
ATTACH;FMTTYPE=image/png:https://garlandtheater.org/wp-content/uploads/2024/03/3F3J_poster.png
END:VEVENT
BEGIN:VEVENT
DTSTART;TZID=America/Los_Angeles:20260508T173000
DTEND;TZID=America/Los_Angeles:20260508T173000
DTSTAMP:20260419T050214
CREATED:20260409T214446Z
LAST-MODIFIED:20260409T214446Z
UID:6101-1778261400-1778261400@garlandtheater.org
SUMMARY:Tremors
DESCRIPTION:
URL:https://garlandtheater.org/event/tremors/
CATEGORIES:Showtime
ATTACH;FMTTYPE=image/jpeg:https://garlandtheater.org/wp-content/uploads/2026/04/tremorsposter.jpg
END:VEVENT
BEGIN:VEVENT
DTSTART;TZID=America/Los_Angeles:20260508T203000
DTEND;TZID=America/Los_Angeles:20260508T203000
DTSTAMP:20260419T050214
CREATED:20260409T220326Z
LAST-MODIFIED:20260409T220326Z
UID:6104-1778272200-1778272200@garlandtheater.org
SUMMARY:Tremors  21 and older event
DESCRIPTION:
URL:https://garlandtheater.org/event/tremors-21-and-older-event/
CATEGORIES:Showtime,Special Event
ATTACH;FMTTYPE=image/jpeg:https://garlandtheater.org/wp-content/uploads/2026/04/tremorsposter.jpg
END:VEVENT
BEGIN:VEVENT
DTSTART;TZID=America/Los_Angeles:20260509T140000
DTEND;TZID=America/Los_Angeles:20260509T140000
DTSTAMP:20260419T050214
CREATED:20260409T211322Z
LAST-MODIFIED:20260409T211322Z
UID:6078-1778335200-1778335200@garlandtheater.org
SUMMARY:Pokemon: The First Movie  Free Admission
DESCRIPTION:
URL:https://garlandtheater.org/event/pokemon-the-first-movie-free-admission/
CATEGORIES:Showtime
ATTACH;FMTTYPE=image/jpeg:https://garlandtheater.org/wp-content/uploads/2026/04/pokemon1poster-scaled.jpg
END:VEVENT
BEGIN:VEVENT
DTSTART;TZID=America/Los_Angeles:20260509T170000
DTEND;TZID=America/Los_Angeles:20260509T170000
DTSTAMP:20260419T050214
CREATED:20260302T032621Z
LAST-MODIFIED:20260302T033110Z
UID:5885-1778346000-1778346000@garlandtheater.org
SUMMARY:Serenity (2005)  Presented by EWU on 35mm Film  All Ages
DESCRIPTION:
URL:https://garlandtheater.org/event/serenity-2005-presented-by-ewu-on-35mm-film-all-ages/
CATEGORIES:Showtime,Special Event
ATTACH;FMTTYPE=image/jpeg:https://garlandtheater.org/wp-content/uploads/2026/03/serenityposter.jpg
END:VEVENT
BEGIN:VEVENT
DTSTART;TZID=America/Los_Angeles:20260509T200000
DTEND;TZID=America/Los_Angeles:20260509T200000
DTSTAMP:20260419T050214
CREATED:20260302T033051Z
LAST-MODIFIED:20260302T033051Z
UID:5887-1778356800-1778356800@garlandtheater.org
SUMMARY:Serenity (2005)  Presented by EWU on 35mm Film  21+ ID REQ
DESCRIPTION:
URL:https://garlandtheater.org/event/serenity-2005-presented-by-ewu-on-35mm-film-21-id-req/
CATEGORIES:Showtime,Special Event
ATTACH;FMTTYPE=image/jpeg:https://garlandtheater.org/wp-content/uploads/2026/03/serenityposter.jpg
END:VEVENT
BEGIN:VEVENT
DTSTART;TZID=America/Los_Angeles:20260510T140000
DTEND;TZID=America/Los_Angeles:20260510T140000
DTSTAMP:20260419T050214
CREATED:20260409T211506Z
LAST-MODIFIED:20260409T211506Z
UID:6082-1778421600-1778421600@garlandtheater.org
SUMMARY:Pokemon: The First Movie  Free with Movie Club
DESCRIPTION:
URL:https://garlandtheater.org/event/pokemon-the-first-movie-free-with-movie-club/
CATEGORIES:Movie Club,Showtime
ATTACH;FMTTYPE=image/jpeg:https://garlandtheater.org/wp-content/uploads/2026/04/pokemon1poster-scaled.jpg
END:VEVENT
BEGIN:VEVENT
DTSTART;TZID=America/Los_Angeles:20260511T180000
DTEND;TZID=America/Los_Angeles:20260511T180000
DTSTAMP:20260419T050214
CREATED:20260409T211802Z
LAST-MODIFIED:20260409T211802Z
UID:6084-1778522400-1778522400@garlandtheater.org
SUMMARY:Natural Born Killers  Free with Movie Club
DESCRIPTION:
URL:https://garlandtheater.org/event/natural-born-killers-free-with-movie-club/
CATEGORIES:Movie Club,Showtime
ATTACH;FMTTYPE=image/jpeg:https://garlandtheater.org/wp-content/uploads/2026/04/naturalbornkillersposter.jpg
END:VEVENT
BEGIN:VEVENT
DTSTART;TZID=America/Los_Angeles:20260517T170000
DTEND;TZID=America/Los_Angeles:20260517T170000
DTSTAMP:20260419T050214
CREATED:20260409T212235Z
LAST-MODIFIED:20260409T212235Z
UID:6087-1779037200-1779037200@garlandtheater.org
SUMMARY:Everything Everywhere All at Once  Free with Movie Club
DESCRIPTION:
URL:https://garlandtheater.org/event/everything-everywhere-all-at-once-free-with-movie-club/
CATEGORIES:Movie Club,Showtime
ATTACH;FMTTYPE=image/jpeg:https://garlandtheater.org/wp-content/uploads/2026/04/everythingeverywhereposter.jpg
END:VEVENT
BEGIN:VEVENT
DTSTART;TZID=America/Los_Angeles:20260518T180000
DTEND;TZID=America/Los_Angeles:20260518T180000
DTSTAMP:20260419T050214
CREATED:20260409T212553Z
LAST-MODIFIED:20260409T212553Z
UID:6090-1779127200-1779127200@garlandtheater.org
SUMMARY:There's Something About Mary  Free with Movie Club
DESCRIPTION:
URL:https://garlandtheater.org/event/theres-something-about-mary-free-with-movie-club/
CATEGORIES:Movie Club,Showtime
ATTACH;FMTTYPE=image/jpeg:https://garlandtheater.org/wp-content/uploads/2026/04/theressomethingaboutmaryposter.jpg
END:VEVENT
BEGIN:VEVENT
DTSTART;TZID=America/Los_Angeles:20260521T190000
DTEND;TZID=America/Los_Angeles:20260521T190000
DTSTAMP:20260419T050214
CREATED:20260419T003128Z
LAST-MODIFIED:20260419T003820Z
UID:6169-1779390000-1779390000@garlandtheater.org
SUMMARY:Real Rat  Premiere Screening  w/ Q&A
DESCRIPTION:
URL:https://garlandtheater.org/event/real-rat-premiere-screening-w-qa/
CATEGORIES:Showtime,Special Event
ATTACH;FMTTYPE=image/png:https://garlandtheater.org/wp-content/uploads/2026/04/RR-Poster-Correct-date.png
END:VEVENT
BEGIN:VEVENT
DTSTART;TZID=America/Los_Angeles:20260522T173000
DTEND;TZID=America/Los_Angeles:20260522T173000
DTSTAMP:20260419T050214
CREATED:20260409T223621Z
LAST-MODIFIED:20260409T223621Z
UID:6106-1779471000-1779471000@garlandtheater.org
SUMMARY:10 Things I Hate About You
DESCRIPTION:
URL:https://garlandtheater.org/event/10-things-i-hate-about-you/
CATEGORIES:Showtime
ATTACH;FMTTYPE=image/jpeg:https://garlandtheater.org/wp-content/uploads/2026/04/10_Things_I_Hate_About_You_poster.jpg
END:VEVENT
BEGIN:VEVENT
DTSTART;TZID=America/Los_Angeles:20260523T140000
DTEND;TZID=America/Los_Angeles:20260523T140000
DTSTAMP:20260419T050214
CREATED:20260409T212841Z
LAST-MODIFIED:20260409T212841Z
UID:6093-1779544800-1779544800@garlandtheater.org
SUMMARY:All Dogs Go to Heaven  Free Admission
DESCRIPTION:
URL:https://garlandtheater.org/event/all-dogs-go-to-heaven-free-admission/
CATEGORIES:Showtime
ATTACH;FMTTYPE=image/jpeg:https://garlandtheater.org/wp-content/uploads/2026/04/alldogsgotoheavenposter.jpg
END:VEVENT
BEGIN:VEVENT
DTSTART;TZID=America/Los_Angeles:20260523T170000
DTEND;TZID=America/Los_Angeles:20260523T170000
DTSTAMP:20260419T050214
CREATED:20260413T232138Z
LAST-MODIFIED:20260413T232138Z
UID:6134-1779555600-1779555600@garlandtheater.org
SUMMARY:Scott Pilgrim vs. the World
DESCRIPTION:
URL:https://garlandtheater.org/event/scott-pilgrim-vs-the-world/
CATEGORIES:Showtime
ATTACH;FMTTYPE=image/jpeg:https://garlandtheater.org/wp-content/uploads/2025/08/scottpilgrimposter.jpg
END:VEVENT
BEGIN:VEVENT
DTSTART;TZID=America/Los_Angeles:20260523T200000
DTEND;TZID=America/Los_Angeles:20260523T200000
DTSTAMP:20260419T050214
CREATED:20260409T224202Z
LAST-MODIFIED:20260416T235456Z
UID:6109-1779566400-1779566400@garlandtheater.org
SUMMARY:10 Things I Hate About You
DESCRIPTION:
URL:https://garlandtheater.org/event/10-things-i-hate-about-you-21-event-id-req/
CATEGORIES:Showtime
ATTACH;FMTTYPE=image/jpeg:https://garlandtheater.org/wp-content/uploads/2026/04/10_Things_I_Hate_About_You_poster.jpg
END:VEVENT
BEGIN:VEVENT
DTSTART;TZID=America/Los_Angeles:20260524T140000
DTEND;TZID=America/Los_Angeles:20260524T140000
DTSTAMP:20260419T050214
CREATED:20260409T212940Z
LAST-MODIFIED:20260409T212940Z
UID:6096-1779631200-1779631200@garlandtheater.org
SUMMARY:All Dogs Go to Heaven  Free with Movie Club
DESCRIPTION:
URL:https://garlandtheater.org/event/all-dogs-go-to-heaven-free-with-movie-club/
CATEGORIES:Movie Club,Showtime
ATTACH;FMTTYPE=image/jpeg:https://garlandtheater.org/wp-content/uploads/2026/04/alldogsgotoheavenposter.jpg
END:VEVENT
BEGIN:VEVENT
DTSTART;TZID=America/Los_Angeles:20260524T170000
DTEND;TZID=America/Los_Angeles:20260524T170000
DTSTAMP:20260419T050214
CREATED:20260413T232221Z
LAST-MODIFIED:20260413T232221Z
UID:6136-1779642000-1779642000@garlandtheater.org
SUMMARY:Scott Pilgrim vs. the World  Free with Movie Club
DESCRIPTION:
URL:https://garlandtheater.org/event/scott-pilgrim-vs-the-world-free-with-movie-club-2/
CATEGORIES:Movie Club,Showtime
ATTACH;FMTTYPE=image/jpeg:https://garlandtheater.org/wp-content/uploads/2025/08/scottpilgrimposter.jpg
END:VEVENT
BEGIN:VEVENT
DTSTART;TZID=America/Los_Angeles:20260525T180000
DTEND;TZID=America/Los_Angeles:20260525T180000
DTSTAMP:20260419T050214
CREATED:20260325T232447Z
LAST-MODIFIED:20260325T232447Z
UID:5976-1779732000-1779732000@garlandtheater.org
SUMMARY:UHF  Free Admission  With Movie Club
DESCRIPTION:
URL:https://garlandtheater.org/event/uhf-free-admission-with-movie-club-2/
CATEGORIES:Movie Club,Showtime
ATTACH;FMTTYPE=image/jpeg:https://garlandtheater.org/wp-content/uploads/2024/05/UHF.jpg
END:VEVENT
BEGIN:VEVENT
DTSTART;TZID=America/Los_Angeles:20260529T173000
DTEND;TZID=America/Los_Angeles:20260529T173000
DTSTAMP:20260419T050214
CREATED:20260413T233039Z
LAST-MODIFIED:20260413T233039Z
UID:6138-1780075800-1780075800@garlandtheater.org
SUMMARY:Superbad
DESCRIPTION:
URL:https://garlandtheater.org/event/superbad/
CATEGORIES:Showtime
ATTACH;FMTTYPE=image/jpeg:https://garlandtheater.org/wp-content/uploads/2026/04/superbadposter.jpg
END:VEVENT
BEGIN:VEVENT
DTSTART;TZID=America/Los_Angeles:20260530T170000
DTEND;TZID=America/Los_Angeles:20260530T170000
DTSTAMP:20260419T050214
CREATED:20260413T234958Z
LAST-MODIFIED:20260413T234958Z
UID:6143-1780160400-1780160400@garlandtheater.org
SUMMARY:The Mummy(1999)
DESCRIPTION:
URL:https://garlandtheater.org/event/the-mummy1999/
CATEGORIES:Showtime
ATTACH;FMTTYPE=image/jpeg:https://garlandtheater.org/wp-content/uploads/2024/06/themummy-scaled.jpg
END:VEVENT
BEGIN:VEVENT
DTSTART;TZID=America/Los_Angeles:20260530T200000
DTEND;TZID=America/Los_Angeles:20260530T200000
DTSTAMP:20260419T050214
CREATED:20260413T233716Z
LAST-MODIFIED:20260413T233716Z
UID:6141-1780171200-1780171200@garlandtheater.org
SUMMARY:Superbad  21+ Event  ID REQ
DESCRIPTION:
URL:https://garlandtheater.org/event/superbad-21-event-id-req/
CATEGORIES:Showtime,Special Event
ATTACH;FMTTYPE=image/jpeg:https://garlandtheater.org/wp-content/uploads/2026/04/superbadposter.jpg
END:VEVENT
BEGIN:VEVENT
DTSTART;TZID=America/Los_Angeles:20260531T140000
DTEND;TZID=America/Los_Angeles:20260531T140000
DTSTAMP:20260419T050214
CREATED:20260413T235115Z
LAST-MODIFIED:20260413T235115Z
UID:6145-1780236000-1780236000@garlandtheater.org
SUMMARY:The Mummy(1999)  Free with Movie Club
DESCRIPTION:
URL:https://garlandtheater.org/event/the-mummy1999-free-with-movie-club/
CATEGORIES:Movie Club,Showtime
ATTACH;FMTTYPE=image/jpeg:https://garlandtheater.org/wp-content/uploads/2024/06/themummy-scaled.jpg
END:VEVENT
BEGIN:VEVENT
DTSTART;TZID=America/Los_Angeles:20260531T173000
DTEND;TZID=America/Los_Angeles:20260531T173000
DTSTAMP:20260419T050214
CREATED:20260409T213315Z
LAST-MODIFIED:20260409T213315Z
UID:6098-1780248600-1780248600@garlandtheater.org
SUMMARY:Carrie(1976)  Garland Book Club  Free with Movie Club
DESCRIPTION:
URL:https://garlandtheater.org/event/carrie1976-garland-book-club-free-with-movie-club/
CATEGORIES:Garland Book Club,Movie Club,Showtime,Special Event
ATTACH;FMTTYPE=image/jpeg:https://garlandtheater.org/wp-content/uploads/2026/04/carrieposter.jpg
END:VEVENT
BEGIN:VEVENT
DTSTART;TZID=America/Los_Angeles:20260613T163000
DTEND;TZID=America/Los_Angeles:20260613T163000
DTSTAMP:20260419T050214
CREATED:20260302T034104Z
LAST-MODIFIED:20260302T034104Z
UID:5891-1781368200-1781368200@garlandtheater.org
SUMMARY:Jaws  On 35mm Film!!  Presented by EWU  All Ages
DESCRIPTION:
URL:https://garlandtheater.org/event/jaws-on-35mm-film-presented-by-ewu-all-ages/
CATEGORIES:Showtime,Special Event
ATTACH;FMTTYPE=image/jpeg:https://garlandtheater.org/wp-content/uploads/2025/02/jaws.jpg
END:VEVENT
BEGIN:VEVENT
DTSTART;TZID=America/Los_Angeles:20260613T200000
DTEND;TZID=America/Los_Angeles:20260613T200000
DTSTAMP:20260419T050214
CREATED:20260302T034719Z
LAST-MODIFIED:20260302T034719Z
UID:5893-1781380800-1781380800@garlandtheater.org
SUMMARY:Jaws  On 35mm Film!!  Presented by EWU  21+ ID REQ
DESCRIPTION:
URL:https://garlandtheater.org/event/jaws-on-35mm-film-presented-by-ewu-21-id-req/
CATEGORIES:Showtime,Special Event
ATTACH;FMTTYPE=image/jpeg:https://garlandtheater.org/wp-content/uploads/2025/02/jaws.jpg
END:VEVENT
END:VCALENDAR