BEGIN:VCALENDAR
VERSION:2.0
PRODID:-//The Garland Theater - ECPv6.15.20//NONSGML v1.0//EN
CALSCALE:GREGORIAN
METHOD:PUBLISH
X-ORIGINAL-URL:https://garlandtheater.org
X-WR-CALDESC:Events for The Garland Theater
REFRESH-INTERVAL;VALUE=DURATION:PT1H
X-Robots-Tag:noindex
X-PUBLISHED-TTL:PT1H
BEGIN:VTIMEZONE
TZID:America/Los_Angeles
BEGIN:DAYLIGHT
TZOFFSETFROM:-0800
TZOFFSETTO:-0700
TZNAME:PDT
DTSTART:20250309T100000
END:DAYLIGHT
BEGIN:STANDARD
TZOFFSETFROM:-0700
TZOFFSETTO:-0800
TZNAME:PST
DTSTART:20251102T090000
END:STANDARD
BEGIN:DAYLIGHT
TZOFFSETFROM:-0800
TZOFFSETTO:-0700
TZNAME:PDT
DTSTART:20260308T100000
END:DAYLIGHT
BEGIN:STANDARD
TZOFFSETFROM:-0700
TZOFFSETTO:-0800
TZNAME:PST
DTSTART:20261101T090000
END:STANDARD
BEGIN:DAYLIGHT
TZOFFSETFROM:-0800
TZOFFSETTO:-0700
TZNAME:PDT
DTSTART:20270314T100000
END:DAYLIGHT
BEGIN:STANDARD
TZOFFSETFROM:-0700
TZOFFSETTO:-0800
TZNAME:PST
DTSTART:20271107T090000
END:STANDARD
END:VTIMEZONE
BEGIN:VEVENT
DTSTART;TZID=America/Los_Angeles:20260328T140000
DTEND;TZID=America/Los_Angeles:20260328T140000
DTSTAMP:20260419T093329
CREATED:20260217T023738Z
LAST-MODIFIED:20260217T023738Z
UID:5813-1774706400-1774706400@garlandtheater.org
SUMMARY:A Minecraft Movie  Free Admission
DESCRIPTION:
URL:https://garlandtheater.org/event/a-minecraft-movie-free-admission/
CATEGORIES:Movie Club,Showtime
ATTACH;FMTTYPE=image/png:https://garlandtheater.org/wp-content/uploads/2026/02/minecraft.png
END:VEVENT
BEGIN:VEVENT
DTSTART;TZID=America/Los_Angeles:20260327T203000
DTEND;TZID=America/Los_Angeles:20260327T203000
DTSTAMP:20260419T093329
CREATED:20260223T050911Z
LAST-MODIFIED:20260227T004010Z
UID:5841-1774643400-1774643400@garlandtheater.org
SUMMARY:The Lost Boys  Friday Nite Frights  21+ ID REQ.
DESCRIPTION:
URL:https://garlandtheater.org/event/the-lost-boys-21-id-req/
CATEGORIES:Showtime,Special Event
ATTACH;FMTTYPE=image/png:https://garlandtheater.org/wp-content/uploads/2026/02/LostBoys21poster.png
END:VEVENT
BEGIN:VEVENT
DTSTART;TZID=America/Los_Angeles:20260327T173000
DTEND;TZID=America/Los_Angeles:20260327T173000
DTSTAMP:20260419T093329
CREATED:20260223T050438Z
LAST-MODIFIED:20260227T004609Z
UID:5838-1774632600-1774632600@garlandtheater.org
SUMMARY:The Lost Boys
DESCRIPTION:
URL:https://garlandtheater.org/event/the-lost-boys-2/
CATEGORIES:Showtime
ATTACH;FMTTYPE=image/png:https://garlandtheater.org/wp-content/uploads/2026/02/LostBoysGAposter.png
END:VEVENT
BEGIN:VEVENT
DTSTART;TZID=America/Los_Angeles:20260323T180000
DTEND;TZID=America/Los_Angeles:20260323T180000
DTSTAMP:20260419T093329
CREATED:20260302T025258Z
LAST-MODIFIED:20260302T025936Z
UID:5869-1774288800-1774288800@garlandtheater.org
SUMMARY:Mars Attacks  30th Anniversary  Free with Movie Club
DESCRIPTION:
URL:https://garlandtheater.org/event/mars-attacks-30th-anniversary-free-with-movie-club/
CATEGORIES:Movie Club,Showtime
ATTACH;FMTTYPE=image/jpeg:https://garlandtheater.org/wp-content/uploads/2026/03/marsattacksposter.jpg
END:VEVENT
BEGIN:VEVENT
DTSTART;TZID=America/Los_Angeles:20260322T170000
DTEND;TZID=America/Los_Angeles:20260322T170000
DTSTAMP:20260419T093329
CREATED:20260223T042934Z
LAST-MODIFIED:20260320T171601Z
UID:5827-1774198800-1774198800@garlandtheater.org
SUMMARY:K-Pop Demon Hunters  Free Admission
DESCRIPTION:
URL:https://garlandtheater.org/event/k-pop-demon-hunter-2/
CATEGORIES:Movie Club,Showtime
ATTACH;FMTTYPE=image/jpeg:https://garlandtheater.org/wp-content/uploads/2026/02/k-popdemonhuntersposter.jpg
END:VEVENT
BEGIN:VEVENT
DTSTART;TZID=America/Los_Angeles:20260322T140000
DTEND;TZID=America/Los_Angeles:20260322T140000
DTSTAMP:20260419T093329
CREATED:20260216T230637Z
LAST-MODIFIED:20260216T230637Z
UID:5771-1774188000-1774188000@garlandtheater.org
SUMMARY:Trolls  10th Anniversary  Free Admission  With Movie Club
DESCRIPTION:
URL:https://garlandtheater.org/event/trolls-10th-anniversary-free-admission-with-movie-club/
CATEGORIES:Movie Club,Showtime
ATTACH;FMTTYPE=image/jpeg:https://garlandtheater.org/wp-content/uploads/2024/05/Trolls.jpg
END:VEVENT
BEGIN:VEVENT
DTSTART;TZID=America/Los_Angeles:20260321T200000
DTEND;TZID=America/Los_Angeles:20260321T200000
DTSTAMP:20260419T093329
CREATED:20260223T043439Z
LAST-MODIFIED:20260223T043439Z
UID:5829-1774123200-1774123200@garlandtheater.org
SUMMARY:K-Pop Demon Hunters  21 and Older event  with Alcohol!
DESCRIPTION:
URL:https://garlandtheater.org/event/k-pop-demon-hunters-21-and-older-event-with-alcohol/
CATEGORIES:Showtime,Special Event
ATTACH;FMTTYPE=image/jpeg:https://garlandtheater.org/wp-content/uploads/2026/02/k-popdemonhuntersposter.jpg
END:VEVENT
BEGIN:VEVENT
DTSTART;TZID=America/Los_Angeles:20260321T160000
DTEND;TZID=America/Los_Angeles:20260321T160000
DTSTAMP:20260419T093329
CREATED:20260320T170859Z
LAST-MODIFIED:20260320T170859Z
UID:5953-1774108800-1774108800@garlandtheater.org
SUMMARY:MARCH MADNESS  Gonzaga Men Vs.  Texas Longhorns  Free Admission
DESCRIPTION:
URL:https://garlandtheater.org/event/march-madness-gonzaga-men-vs-texas-longhorns-free-admission/
CATEGORIES:Movie Club,Showtime,Special Event
ATTACH;FMTTYPE=image/webp:https://garlandtheater.org/wp-content/uploads/2026/03/Gonzaga.webp
END:VEVENT
BEGIN:VEVENT
DTSTART;TZID=America/Los_Angeles:20260321T133000
DTEND;TZID=America/Los_Angeles:20260321T133000
DTSTAMP:20260419T093329
CREATED:20260217T012707Z
LAST-MODIFIED:20260320T170706Z
UID:5790-1774099800-1774099800@garlandtheater.org
SUMMARY:Trolls  10th Anniversary  Free Admission
DESCRIPTION:
URL:https://garlandtheater.org/event/trolls-10th-anniversary-free-admission/
CATEGORIES:Movie Club,Showtime
ATTACH;FMTTYPE=image/jpeg:https://garlandtheater.org/wp-content/uploads/2024/05/Trolls.jpg
END:VEVENT
BEGIN:VEVENT
DTSTART;TZID=America/Los_Angeles:20260320T200000
DTEND;TZID=America/Los_Angeles:20260320T200000
DTSTAMP:20260419T093329
CREATED:20260223T044359Z
LAST-MODIFIED:20260223T044359Z
UID:5833-1774036800-1774036800@garlandtheater.org
SUMMARY:Poltergeist (1982)
DESCRIPTION:
URL:https://garlandtheater.org/event/poltergeist-1982/
CATEGORIES:Showtime
ATTACH;FMTTYPE=image/webp:https://garlandtheater.org/wp-content/uploads/2026/02/Poltergeistposter.webp
END:VEVENT
BEGIN:VEVENT
DTSTART;TZID=America/Los_Angeles:20260320T173000
DTEND;TZID=America/Los_Angeles:20260320T173000
DTSTAMP:20260419T093329
CREATED:20260223T042345Z
LAST-MODIFIED:20260223T043548Z
UID:5824-1774027800-1774027800@garlandtheater.org
SUMMARY:K-Pop Demon Hunters
DESCRIPTION:
URL:https://garlandtheater.org/event/k-pop-demon-hunter/
CATEGORIES:Showtime
ATTACH;FMTTYPE=image/jpeg:https://garlandtheater.org/wp-content/uploads/2026/02/k-popdemonhuntersposter.jpg
END:VEVENT
BEGIN:VEVENT
DTSTART;TZID=America/Los_Angeles:20260320T123000
DTEND;TZID=America/Los_Angeles:20260320T123000
DTSTAMP:20260419T093329
CREATED:20260318T202518Z
LAST-MODIFIED:20260318T202518Z
UID:5940-1774009800-1774009800@garlandtheater.org
SUMMARY:MARCH MADNESS  Gonzaga Women vs.  Ole Miss
DESCRIPTION:
URL:https://garlandtheater.org/event/march-madness-gonzaga-women-vs-ole-miss/
CATEGORIES:Movie Club,Showtime,Special Event
ATTACH;FMTTYPE=image/webp:https://garlandtheater.org/wp-content/uploads/2026/03/Gonzaga.webp
END:VEVENT
BEGIN:VEVENT
DTSTART;TZID=America/Los_Angeles:20260319T190000
DTEND;TZID=America/Los_Angeles:20260319T190000
DTSTAMP:20260419T093329
CREATED:20260318T202301Z
LAST-MODIFIED:20260318T202301Z
UID:5937-1773946800-1773946800@garlandtheater.org
SUMMARY:MARCH MADNESS  Gonzaga Men vs.  Kennesaw St.
DESCRIPTION:
URL:https://garlandtheater.org/event/march-madness-gonzaga-men-vs-kennesaw-st/
CATEGORIES:Movie Club,Showtime,Special Event
ATTACH;FMTTYPE=image/webp:https://garlandtheater.org/wp-content/uploads/2026/03/Gonzaga.webp
END:VEVENT
BEGIN:VEVENT
DTSTART;TZID=America/Los_Angeles:20260318T180000
DTEND;TZID=America/Los_Angeles:20260318T180000
DTSTAMP:20260419T093329
CREATED:20260302T024947Z
LAST-MODIFIED:20260302T025918Z
UID:5866-1773856800-1773856800@garlandtheater.org
SUMMARY:Legend (1985)  Free with Movie Club
DESCRIPTION:
URL:https://garlandtheater.org/event/legend-1985/
CATEGORIES:Movie Club,Showtime
ATTACH;FMTTYPE=image/jpeg:https://garlandtheater.org/wp-content/uploads/2026/03/Legendposter-scaled.jpg
END:VEVENT
BEGIN:VEVENT
DTSTART;TZID=America/Los_Angeles:20260316T180000
DTEND;TZID=America/Los_Angeles:20260316T180000
DTSTAMP:20260419T093329
CREATED:20260314T031132Z
LAST-MODIFIED:20260314T031132Z
UID:5919-1773684000-1773684000@garlandtheater.org
SUMMARY:Romeo + Juliet  Free with Movie Club
DESCRIPTION:
URL:https://garlandtheater.org/event/romeo-juliet-free-with-movie-club/
CATEGORIES:Movie Club,Showtime
ATTACH;FMTTYPE=image/jpeg:https://garlandtheater.org/wp-content/uploads/2026/03/RomeoJulietposter.jpg
END:VEVENT
BEGIN:VEVENT
DTSTART;TZID=America/Los_Angeles:20260315T160000
DTEND;TZID=America/Los_Angeles:20260315T160000
DTSTAMP:20260419T093329
CREATED:20260210T013550Z
LAST-MODIFIED:20260210T013550Z
UID:5714-1773590400-1773590400@garlandtheater.org
SUMMARY:Oscars Viewing Party  Free Admission
DESCRIPTION:
URL:https://garlandtheater.org/event/oscars-viewing-party-free-admission/
CATEGORIES:Showtime,Special Event
ATTACH;FMTTYPE=image/jpeg:https://garlandtheater.org/wp-content/uploads/2026/02/oscarsposter.jpg
END:VEVENT
BEGIN:VEVENT
DTSTART;TZID=America/Los_Angeles:20260315T133000
DTEND;TZID=America/Los_Angeles:20260315T133000
DTSTAMP:20260419T093329
CREATED:20260217T002438Z
LAST-MODIFIED:20260313T230918Z
UID:5779-1773581400-1773581400@garlandtheater.org
SUMMARY:The Rugrats Movie  Free Admission  With Movie Club
DESCRIPTION:
URL:https://garlandtheater.org/event/the-rugrats-movie-free-admission-with-movie-club/
CATEGORIES:Movie Club,Showtime
ATTACH;FMTTYPE=image/jpeg:https://garlandtheater.org/wp-content/uploads/2026/02/Rugrats.jpg
END:VEVENT
BEGIN:VEVENT
DTSTART;TZID=America/Los_Angeles:20260314T200000
DTEND;TZID=America/Los_Angeles:20260314T200000
DTSTAMP:20260419T093329
CREATED:20260103T020530Z
LAST-MODIFIED:20260103T020530Z
UID:5498-1773518400-1773518400@garlandtheater.org
SUMMARY:The big Lebowski  Presented by EWU  On 35mm Film  21 and Older Show
DESCRIPTION:
URL:https://garlandtheater.org/event/the-big-lebowski-presented-by-ewu-on-35mm-film-21-and-older-show/
CATEGORIES:Showtime,Special Event
ATTACH;FMTTYPE=image/jpeg:https://garlandtheater.org/wp-content/uploads/2026/01/biglebowskiposter.jpg
END:VEVENT
BEGIN:VEVENT
DTSTART;TZID=America/Los_Angeles:20260314T170000
DTEND;TZID=America/Los_Angeles:20260314T170000
DTSTAMP:20260419T093329
CREATED:20260103T020049Z
LAST-MODIFIED:20260103T020049Z
UID:5495-1773507600-1773507600@garlandtheater.org
SUMMARY:The big Lebowski  Presented by EWU  On 35mm Film  Open to all Ages
DESCRIPTION:
URL:https://garlandtheater.org/event/the-big-lebowski-presented-by-ewu-on-35mm-film-open-to-all-ages/
CATEGORIES:Showtime,Special Event
ATTACH;FMTTYPE=image/jpeg:https://garlandtheater.org/wp-content/uploads/2026/01/biglebowskiposter.jpg
END:VEVENT
BEGIN:VEVENT
DTSTART;TZID=America/Los_Angeles:20260314T140000
DTEND;TZID=America/Los_Angeles:20260314T140000
DTSTAMP:20260419T093329
CREATED:20260217T005110Z
LAST-MODIFIED:20260217T005110Z
UID:5784-1773496800-1773496800@garlandtheater.org
SUMMARY:The Rugrats Movie  Free Admission
DESCRIPTION:
URL:https://garlandtheater.org/event/the-rugrats-movie-free-admission/
CATEGORIES:Movie Club,Showtime
ATTACH;FMTTYPE=image/jpeg:https://garlandtheater.org/wp-content/uploads/2026/02/Rugrats.jpg
END:VEVENT
BEGIN:VEVENT
DTSTART;TZID=America/Los_Angeles:20260314T110000
DTEND;TZID=America/Los_Angeles:20260314T110000
DTSTAMP:20260419T093329
CREATED:20260302T024155Z
LAST-MODIFIED:20260302T030452Z
UID:5864-1773486000-1773486000@garlandtheater.org
SUMMARY:The Iron Giant  Sensory Friendly Showing  Free with Movie Club
DESCRIPTION:
URL:https://garlandtheater.org/event/the-iron-giant-sensory-friendly-showing/
CATEGORIES:Movie Club,Showtime
ATTACH;FMTTYPE=image/jpeg:https://garlandtheater.org/wp-content/uploads/2024/02/mThOw5rXLtdbY3WmuTsS9zsQBMG.jpg
END:VEVENT
BEGIN:VEVENT
DTSTART;TZID=America/Los_Angeles:20260313T193000
DTEND;TZID=America/Los_Angeles:20260313T193000
DTSTAMP:20260419T093329
CREATED:20260214T061056Z
LAST-MODIFIED:20260214T061056Z
UID:5732-1773430200-1773430200@garlandtheater.org
SUMMARY:Sinners and Saints  Masquerade Ball  21 and Older
DESCRIPTION:
URL:https://garlandtheater.org/event/sinners-and-saints-masquerade-ball-21-and-older/
CATEGORIES:Showtime,Special Event
ATTACH;FMTTYPE=image/png:https://garlandtheater.org/wp-content/uploads/2026/02/Sinners-Saints-2.png
END:VEVENT
BEGIN:VEVENT
DTSTART;TZID=America/Los_Angeles:20260309T180000
DTEND;TZID=America/Los_Angeles:20260309T180000
DTSTAMP:20260419T093329
CREATED:20260210T013302Z
LAST-MODIFIED:20260217T021710Z
UID:5712-1773079200-1773079200@garlandtheater.org
SUMMARY:Best Picture Nominee  Train Dreams  Free Admission  with Movie Club
DESCRIPTION:
URL:https://garlandtheater.org/event/train-dreams-free-with-movie-club-2/
CATEGORIES:Movie Club,Showtime
ATTACH;FMTTYPE=image/jpeg:https://garlandtheater.org/wp-content/uploads/2026/02/Traindreamsposter.jpg
END:VEVENT
BEGIN:VEVENT
DTSTART;TZID=America/Los_Angeles:20260308T170000
DTEND;TZID=America/Los_Angeles:20260308T170000
DTSTAMP:20260419T093329
CREATED:20260210T013235Z
LAST-MODIFIED:20260217T022753Z
UID:5709-1772989200-1772989200@garlandtheater.org
SUMMARY:Best Picture Nominee  Train Dreams  Free with Movie Club
DESCRIPTION:
URL:https://garlandtheater.org/event/train-dreams-free-with-movie-club/
CATEGORIES:Movie Club,Showtime
ATTACH;FMTTYPE=image/jpeg:https://garlandtheater.org/wp-content/uploads/2026/02/Traindreamsposter.jpg
END:VEVENT
BEGIN:VEVENT
DTSTART;TZID=America/Los_Angeles:20260308T140000
DTEND;TZID=America/Los_Angeles:20260308T140000
DTSTAMP:20260419T093329
CREATED:20260217T021136Z
LAST-MODIFIED:20260217T021136Z
UID:5807-1772978400-1772978400@garlandtheater.org
SUMMARY:The Land Before Time  Free Admission  With Movie Club
DESCRIPTION:
URL:https://garlandtheater.org/event/the-land-before-time-free-admission-with-movie-club/
CATEGORIES:Movie Club,Showtime
ATTACH;FMTTYPE=image/jpeg:https://garlandtheater.org/wp-content/uploads/2024/05/LandBeforeTime.jpg
END:VEVENT
BEGIN:VEVENT
DTSTART;TZID=America/Los_Angeles:20260307T203000
DTEND;TZID=America/Los_Angeles:20260307T203000
DTSTAMP:20260419T093329
CREATED:20260216T201218Z
LAST-MODIFIED:20260216T201218Z
UID:5743-1772915400-1772915400@garlandtheater.org
SUMMARY:SPIFF  Tell No One  World Premiere
DESCRIPTION:
URL:https://garlandtheater.org/event/spiff-tell-no-one-world-premiere/
CATEGORIES:Showtime,Special Event
ATTACH;FMTTYPE=image/jpeg:https://garlandtheater.org/wp-content/uploads/2026/02/tell-no-one.jpeg
END:VEVENT
BEGIN:VEVENT
DTSTART;TZID=America/Los_Angeles:20260307T180000
DTEND;TZID=America/Los_Angeles:20260307T180000
DTSTAMP:20260419T093329
CREATED:20260216T210219Z
LAST-MODIFIED:20260216T210219Z
UID:5746-1772906400-1772906400@garlandtheater.org
SUMMARY:SPIFF  Best of the Northwest
DESCRIPTION:
URL:https://garlandtheater.org/event/spiff-best-of-the-northwest-2/
CATEGORIES:Showtime,Special Event
ATTACH;FMTTYPE=image/png:https://garlandtheater.org/wp-content/uploads/2026/02/Best-of-the-NW_1.png
END:VEVENT
BEGIN:VEVENT
DTSTART;TZID=America/Los_Angeles:20260307T140000
DTEND;TZID=America/Los_Angeles:20260307T140000
DTSTAMP:20260419T093329
CREATED:20260216T231338Z
LAST-MODIFIED:20260216T231338Z
UID:5773-1772892000-1772892000@garlandtheater.org
SUMMARY:The Land Before Time  Free Admission
DESCRIPTION:
URL:https://garlandtheater.org/event/the-land-before-time-free-admission-4/
CATEGORIES:Movie Club,Showtime
ATTACH;FMTTYPE=image/jpeg:https://garlandtheater.org/wp-content/uploads/2024/05/LandBeforeTime.jpg
END:VEVENT
BEGIN:VEVENT
DTSTART;TZID=America/Los_Angeles:20260306T190000
DTEND;TZID=America/Los_Angeles:20260306T190000
DTSTAMP:20260419T093329
CREATED:20260202T005526Z
LAST-MODIFIED:20260202T005526Z
UID:5682-1772823600-1772823600@garlandtheater.org
SUMMARY:Rainier: A Beer Odyssey
DESCRIPTION:
URL:https://garlandtheater.org/event/rainier-a-beer-odyssey-2/
CATEGORIES:Showtime,Special Event
ATTACH;FMTTYPE=image/jpeg:https://garlandtheater.org/wp-content/uploads/2025/02/Rainier_A-Beer-Odyssey-Official-Poster_Version-1-scaled.jpg
END:VEVENT
BEGIN:VEVENT
DTSTART;TZID=America/Los_Angeles:20260305T193000
DTEND;TZID=America/Los_Angeles:20260305T193000
DTSTAMP:20260419T093329
CREATED:20260216T215629Z
LAST-MODIFIED:20260216T215629Z
UID:5749-1772739000-1772739000@garlandtheater.org
SUMMARY:Funny Funny Funny  Joke Joke Joke  Live Stand Up Comedy
DESCRIPTION:
URL:https://garlandtheater.org/event/funny-funny-funny-joke-joke-joke-live-stand-up-comedy-3/
CATEGORIES:Showtime,Special Event
ATTACH;FMTTYPE=image/png:https://garlandtheater.org/wp-content/uploads/2024/03/3F3J_poster.png
END:VEVENT
END:VCALENDAR