BEGIN:VCALENDAR
VERSION:2.0
PRODID:-//The Garland Theater - ECPv6.15.20//NONSGML v1.0//EN
CALSCALE:GREGORIAN
METHOD:PUBLISH
X-WR-CALNAME:The Garland Theater
X-ORIGINAL-URL:https://garlandtheater.org
X-WR-CALDESC:Events for The Garland Theater
REFRESH-INTERVAL;VALUE=DURATION:PT1H
X-Robots-Tag:noindex
X-PUBLISHED-TTL:PT1H
BEGIN:VTIMEZONE
TZID:America/Los_Angeles
BEGIN:DAYLIGHT
TZOFFSETFROM:-0800
TZOFFSETTO:-0700
TZNAME:PDT
DTSTART:20240310T100000
END:DAYLIGHT
BEGIN:STANDARD
TZOFFSETFROM:-0700
TZOFFSETTO:-0800
TZNAME:PST
DTSTART:20241103T090000
END:STANDARD
BEGIN:DAYLIGHT
TZOFFSETFROM:-0800
TZOFFSETTO:-0700
TZNAME:PDT
DTSTART:20250309T100000
END:DAYLIGHT
BEGIN:STANDARD
TZOFFSETFROM:-0700
TZOFFSETTO:-0800
TZNAME:PST
DTSTART:20251102T090000
END:STANDARD
BEGIN:DAYLIGHT
TZOFFSETFROM:-0800
TZOFFSETTO:-0700
TZNAME:PDT
DTSTART:20260308T100000
END:DAYLIGHT
BEGIN:STANDARD
TZOFFSETFROM:-0700
TZOFFSETTO:-0800
TZNAME:PST
DTSTART:20261101T090000
END:STANDARD
BEGIN:DAYLIGHT
TZOFFSETFROM:-0800
TZOFFSETTO:-0700
TZNAME:PDT
DTSTART:20270314T100000
END:DAYLIGHT
BEGIN:STANDARD
TZOFFSETFROM:-0700
TZOFFSETTO:-0800
TZNAME:PST
DTSTART:20271107T090000
END:STANDARD
END:VTIMEZONE
BEGIN:VEVENT
DTSTART;TZID=America/Los_Angeles:20260109T200000
DTEND;TZID=America/Los_Angeles:20260109T200000
DTSTAMP:20260421T190525
CREATED:20260106T013124Z
LAST-MODIFIED:20260106T013124Z
UID:5513-1767988800-1767988800@garlandtheater.org
SUMMARY:Bartender Birthday Bash  Live Music with Deadones USA  and St. Anthony's Fire  All Ages just $5
DESCRIPTION:
URL:https://garlandtheater.org/event/bartender-birthday-bash-live-music-with-deadones-usa-and-st-anthonys-fire-all-ages-just-5/
CATEGORIES:Showtime,Special Event
ATTACH;FMTTYPE=image/jpeg:https://garlandtheater.org/wp-content/uploads/2026/01/birthdaybash.jpg
END:VEVENT
BEGIN:VEVENT
DTSTART;TZID=America/Los_Angeles:20260108T193000
DTEND;TZID=America/Los_Angeles:20260108T193000
DTSTAMP:20260421T190525
CREATED:20251229T011710Z
LAST-MODIFIED:20260104T020034Z
UID:5445-1767900600-1767900600@garlandtheater.org
SUMMARY:3F3J Live Comedy  @ The Garland w/   Adam Tiller
DESCRIPTION:
URL:https://garlandtheater.org/event/3f3j-live-comedy-the-garland-w-adam-tiller/
CATEGORIES:Showtime,Special Event
ATTACH;FMTTYPE=image/png:https://garlandtheater.org/wp-content/uploads/2025/12/3F3JJanposter.png
END:VEVENT
BEGIN:VEVENT
DTSTART;TZID=America/Los_Angeles:20251230T103000
DTEND;TZID=America/Los_Angeles:20251230T103000
DTSTAMP:20260421T190525
CREATED:20251221T051048Z
LAST-MODIFIED:20251221T051048Z
UID:5377-1767090600-1767090600@garlandtheater.org
SUMMARY:Troop Beverly Hills  Presented by  Service Unit 453  Free with Movie Club
DESCRIPTION:
URL:https://garlandtheater.org/event/troop-beverly-hills-presented-by-service-unit-453-free-with-movie-club/
CATEGORIES:Movie Club,Showtime,Special Event
ATTACH;FMTTYPE=image/jpeg:https://garlandtheater.org/wp-content/uploads/2025/12/TroopBeverlyHills.jpeg
END:VEVENT
BEGIN:VEVENT
DTSTART;TZID=America/Los_Angeles:20251220T120000
DTEND;TZID=America/Los_Angeles:20251220T120000
DTSTAMP:20260421T190525
CREATED:20251213T023554Z
LAST-MODIFIED:20251213T023554Z
UID:5318-1766232000-1766232000@garlandtheater.org
SUMMARY:Sonic Solstice III  Presented by   Two Two One Press
DESCRIPTION:
URL:https://garlandtheater.org/event/sonic-solstice-iii-presented-by-two-two-one-press-2/
CATEGORIES:Showtime,Special Event
ATTACH;FMTTYPE=image/jpeg:https://garlandtheater.org/wp-content/uploads/2025/11/SonicSolstice_fulllineup-scaled.jpg
END:VEVENT
BEGIN:VEVENT
DTSTART;TZID=America/Los_Angeles:20251219T183000
DTEND;TZID=America/Los_Angeles:20251219T183000
DTSTAMP:20260421T190525
CREATED:20251130T044550Z
LAST-MODIFIED:20251130T044550Z
UID:5145-1766169000-1766169000@garlandtheater.org
SUMMARY:Sonic Solstice III  Presented by   Two Two One Press
DESCRIPTION:
URL:https://garlandtheater.org/event/sonic-solstice-iii-presented-by-two-two-one-press/
CATEGORIES:Showtime,Special Event
ATTACH;FMTTYPE=image/jpeg:https://garlandtheater.org/wp-content/uploads/2025/11/SonicSolstice_fulllineup-scaled.jpg
END:VEVENT
BEGIN:VEVENT
DTSTART;TZID=America/Los_Angeles:20251214T140000
DTEND;TZID=America/Los_Angeles:20251214T140000
DTSTAMP:20260421T190525
CREATED:20251208T235521Z
LAST-MODIFIED:20251208T235521Z
UID:5277-1765720800-1765720800@garlandtheater.org
SUMMARY:Home Alone  Presented by  Spokane Young Life
DESCRIPTION:
URL:https://garlandtheater.org/event/home-alone-presented-by-spokane-young-life/
CATEGORIES:Showtime,Special Event
ATTACH;FMTTYPE=image/jpeg:https://garlandtheater.org/wp-content/uploads/2025/12/Garland-movie-dec-14-1-1.jpg
END:VEVENT
BEGIN:VEVENT
DTSTART;TZID=America/Los_Angeles:20251214T100000
DTEND;TZID=America/Los_Angeles:20251214T100000
DTSTAMP:20260421T190525
CREATED:20251206T184003Z
LAST-MODIFIED:20251206T184003Z
UID:5213-1765706400-1765706400@garlandtheater.org
SUMMARY:Bon Bon Presents  A Bad Moms  Christmas Brunch
DESCRIPTION:
URL:https://garlandtheater.org/event/bon-bon-presents-a-bad-moms-christmas-brunch/
CATEGORIES:Showtime,Special Event
ATTACH;FMTTYPE=image/jpeg:https://garlandtheater.org/wp-content/uploads/2025/12/badmoms.jpg
END:VEVENT
BEGIN:VEVENT
DTSTART;TZID=America/Los_Angeles:20251213T200000
DTEND;TZID=America/Los_Angeles:20251213T200000
DTSTAMP:20260421T190525
CREATED:20251209T171939Z
LAST-MODIFIED:20251209T171939Z
UID:5290-1765656000-1765656000@garlandtheater.org
SUMMARY:Brando's Toy Drive  21 & Older  Free Admission  With Donation
DESCRIPTION:
URL:https://garlandtheater.org/event/brandos-toy-drive-21-older-free-admission-with-donation/
CATEGORIES:Showtime,Special Event
ATTACH;FMTTYPE=image/jpeg:https://garlandtheater.org/wp-content/uploads/2025/12/brando.jpg
END:VEVENT
BEGIN:VEVENT
DTSTART;TZID=America/Los_Angeles:20251213T170000
DTEND;TZID=America/Los_Angeles:20251213T170000
DTSTAMP:20260421T190525
CREATED:20251202T015739Z
LAST-MODIFIED:20251202T015739Z
UID:5155-1765645200-1765645200@garlandtheater.org
SUMMARY:35mm Film Night  How the Grinch Stole Christmas(2000)
DESCRIPTION:
URL:https://garlandtheater.org/event/35mm-film-night-how-the-grinch-stole-christmas2000-2/
CATEGORIES:Showtime,Special Event
ATTACH;FMTTYPE=image/jpeg:https://garlandtheater.org/wp-content/uploads/2025/12/GRinchposter.jpg
END:VEVENT
BEGIN:VEVENT
DTSTART;TZID=America/Los_Angeles:20251213T113000
DTEND;TZID=America/Los_Angeles:20251213T113000
DTSTAMP:20260421T190525
CREATED:20251205T213000Z
LAST-MODIFIED:20251205T213000Z
UID:5190-1765625400-1765625400@garlandtheater.org
SUMMARY:Polar Express  Sensory Friendly
DESCRIPTION:
URL:https://garlandtheater.org/event/polar-express-sensory-friendly/
CATEGORIES:Showtime,Special Event
ATTACH;FMTTYPE=image/jpeg:https://garlandtheater.org/wp-content/uploads/2024/10/PolarExpress.jpg
END:VEVENT
BEGIN:VEVENT
DTSTART;TZID=America/Los_Angeles:20251212T173000
DTEND;TZID=America/Los_Angeles:20251212T173000
DTSTAMP:20260421T190525
CREATED:20251202T015139Z
LAST-MODIFIED:20251202T015139Z
UID:5152-1765560600-1765560600@garlandtheater.org
SUMMARY:35mm Film Night  How the Grinch Stole Christmas(2000)
DESCRIPTION:
URL:https://garlandtheater.org/event/35mm-film-night-how-the-grinch-stole-christmas2000/
CATEGORIES:Showtime,Special Event
ATTACH;FMTTYPE=image/jpeg:https://garlandtheater.org/wp-content/uploads/2025/12/GRinchposter.jpg
END:VEVENT
BEGIN:VEVENT
DTSTART;TZID=America/Los_Angeles:20251207T190000
DTEND;TZID=America/Los_Angeles:20251207T190000
DTSTAMP:20260421T190525
CREATED:20251202T233654Z
LAST-MODIFIED:20251202T233654Z
UID:5166-1765134000-1765134000@garlandtheater.org
SUMMARY:Frozen  UW School of Medicine  Movie Night
DESCRIPTION:
URL:https://garlandtheater.org/event/frozen-uw-school-of-medicine-movie-night/
CATEGORIES:Showtime,Special Event
ATTACH;FMTTYPE=image/jpeg:https://garlandtheater.org/wp-content/uploads/2024/12/Frozen.jpg
END:VEVENT
BEGIN:VEVENT
DTSTART;TZID=America/Los_Angeles:20251206T190000
DTEND;TZID=America/Los_Angeles:20251206T190000
DTSTAMP:20260421T190525
CREATED:20251123T231225Z
LAST-MODIFIED:20251123T231225Z
UID:5131-1765047600-1765047600@garlandtheater.org
SUMMARY:Backcountry Film Festival 2025
DESCRIPTION:
URL:https://garlandtheater.org/event/backcountry-film-festival-2025/
CATEGORIES:Showtime,Special Event
ATTACH;FMTTYPE=image/png:https://garlandtheater.org/wp-content/uploads/2025/11/BcFF-for-Insta-FB.png
END:VEVENT
BEGIN:VEVENT
DTSTART;TZID=America/Los_Angeles:20251204T193000
DTEND;TZID=America/Los_Angeles:20251204T193000
DTSTAMP:20260421T190525
CREATED:20251113T221840Z
LAST-MODIFIED:20251122T234109Z
UID:5086-1764876600-1764876600@garlandtheater.org
SUMMARY:Funny Funny Funny  Joke Joke Joke  Live Comedy with  Jade Esteban Estrada!
DESCRIPTION:
URL:https://garlandtheater.org/event/funny-funny-funny-joke-joke-joke-live-comedy-with-jade-esteban-estrada/
CATEGORIES:Showtime,Special Event
ATTACH;FMTTYPE=image/png:https://garlandtheater.org/wp-content/uploads/2025/11/3F3JDec4.png
END:VEVENT
BEGIN:VEVENT
DTSTART;TZID=America/Los_Angeles:20251202T180000
DTEND;TZID=America/Los_Angeles:20251202T180000
DTSTAMP:20260421T190525
CREATED:20251122T233952Z
LAST-MODIFIED:20251124T185024Z
UID:5122-1764698400-1764698400@garlandtheater.org
SUMMARY:Home Alone Presented By Spokane Angels
DESCRIPTION:
URL:https://garlandtheater.org/event/home-alone-benefit-for-spokane-angels/
CATEGORIES:Showtime,Special Event
ATTACH;FMTTYPE=image/jpeg:https://garlandtheater.org/wp-content/uploads/2025/11/HomeAloneSpoAngels.jpg
END:VEVENT
BEGIN:VEVENT
DTSTART;TZID=America/Los_Angeles:20251129T180000
DTEND;TZID=America/Los_Angeles:20251129T180000
DTSTAMP:20260421T190525
CREATED:20251118T215753Z
LAST-MODIFIED:20251122T234421Z
UID:5105-1764439200-1764439200@garlandtheater.org
SUMMARY:Elf Interactive Movie Night Presented by SRDVC
DESCRIPTION:
URL:https://garlandtheater.org/event/elf-interactive-movie-night-presented-by-srvdc/
CATEGORIES:Showtime,Special Event
ATTACH;FMTTYPE=image/png:https://garlandtheater.org/wp-content/uploads/2025/11/Elf-Marketing-Garland-1.png
END:VEVENT
BEGIN:VEVENT
DTSTART;TZID=America/Los_Angeles:20251122T203000
DTEND;TZID=America/Los_Angeles:20251122T203000
DTSTAMP:20260421T190525
CREATED:20251109T224921Z
LAST-MODIFIED:20251111T225950Z
UID:5029-1763843400-1763843400@garlandtheater.org
SUMMARY:Fear and Loathing in Las Vegas  On 35mm Film  21+ ID req
DESCRIPTION:
URL:https://garlandtheater.org/event/fear-and-loathing-in-las-vegas-on-35mm-film-21-id-req/
CATEGORIES:Showtime,Special Event
ATTACH;FMTTYPE=image/jpeg:https://garlandtheater.org/wp-content/uploads/2025/11/FandlinLVposter.jpg
END:VEVENT
BEGIN:VEVENT
DTSTART;TZID=America/Los_Angeles:20251122T170000
DTEND;TZID=America/Los_Angeles:20251122T170000
DTSTAMP:20260421T190525
CREATED:20251109T224142Z
LAST-MODIFIED:20251109T224142Z
UID:5024-1763830800-1763830800@garlandtheater.org
SUMMARY:Fear and Loathing in Las Vegas  On 35mm Film
DESCRIPTION:
URL:https://garlandtheater.org/event/fear-and-loathing-in-las-vegas-on-35mm-film/
CATEGORIES:Showtime,Special Event
ATTACH;FMTTYPE=image/jpeg:https://garlandtheater.org/wp-content/uploads/2025/11/FandlinLVposter.jpg
END:VEVENT
BEGIN:VEVENT
DTSTART;TZID=America/Los_Angeles:20251121T190000
DTEND;TZID=America/Los_Angeles:20251121T190000
DTSTAMP:20260421T190525
CREATED:20251111T231259Z
LAST-MODIFIED:20251118T010418Z
UID:5073-1763751600-1763751600@garlandtheater.org
SUMMARY:The Garland Turns 80  Relive Opening Night  1945
DESCRIPTION:
URL:https://garlandtheater.org/event/the-garland-turns-80-relive-opening-night-1945/
CATEGORIES:Showtime,Special Event
ATTACH;FMTTYPE=image/png:https://garlandtheater.org/wp-content/uploads/2025/11/80highresposter-scaled.png
END:VEVENT
BEGIN:VEVENT
DTSTART;TZID=America/Los_Angeles:20251116T140000
DTEND;TZID=America/Los_Angeles:20251116T140000
DTSTAMP:20260421T190525
CREATED:20251113T220736Z
LAST-MODIFIED:20251113T220736Z
UID:5083-1763301600-1763301600@garlandtheater.org
SUMMARY:Untouchable  Indie Short Premiere  Free Admission
DESCRIPTION:
URL:https://garlandtheater.org/event/untouchable-indie-short-premiere-free-admission/
CATEGORIES:Showtime,Special Event
ATTACH;FMTTYPE=image/png:https://garlandtheater.org/wp-content/uploads/2025/11/Untouchableposter.png
END:VEVENT
BEGIN:VEVENT
DTSTART;TZID=America/Los_Angeles:20251115T190000
DTEND;TZID=America/Los_Angeles:20251115T190000
DTSTAMP:20260421T190525
CREATED:20251107T232709Z
LAST-MODIFIED:20251111T214013Z
UID:5008-1763233200-1763233200@garlandtheater.org
SUMMARY:Beneath The Falls:  A Spokane DIY Sampler LP Release Show  Presented by  Two Two One Press
DESCRIPTION:
URL:https://garlandtheater.org/event/beneath-the-falls-a-spokane-diy-sampler-lp-release-show-presented-by-two-two-one-press-2/
CATEGORIES:Showtime,Special Event
ATTACH;FMTTYPE=image/jpeg:https://garlandtheater.org/wp-content/uploads/2025/11/BTF_Show_11x17_print-scaled.jpg
END:VEVENT
BEGIN:VEVENT
DTSTART;TZID=America/Los_Angeles:20251114T190000
DTEND;TZID=America/Los_Angeles:20251114T190000
DTSTAMP:20260421T190525
CREATED:20251107T232625Z
LAST-MODIFIED:20251111T213904Z
UID:5005-1763146800-1763146800@garlandtheater.org
SUMMARY:Beneath The Falls:  A Spokane DIY Sampler LP Release Show  Presented by  Two Two One Press
DESCRIPTION:
URL:https://garlandtheater.org/event/beneath-the-falls-a-spokane-diy-sampler-lp-release-show-presented-by-two-two-one-press/
CATEGORIES:Showtime,Special Event
ATTACH;FMTTYPE=image/jpeg:https://garlandtheater.org/wp-content/uploads/2025/11/BTF_Show_11x17_print-scaled.jpg
END:VEVENT
BEGIN:VEVENT
DTSTART;TZID=America/Los_Angeles:20251108T193000
DTEND;TZID=America/Los_Angeles:20251108T193000
DTSTAMP:20260421T190525
CREATED:20251023T002721Z
LAST-MODIFIED:20251023T002721Z
UID:4956-1762630200-1762630200@garlandtheater.org
SUMMARY:Vampire Zombies from Space!
DESCRIPTION:
URL:https://garlandtheater.org/event/vampire-zombies-from-space-3/
CATEGORIES:Showtime,Special Event
ATTACH;FMTTYPE=image/jpeg:https://garlandtheater.org/wp-content/uploads/2025/10/VZFS_DracAttackposter.jpg
END:VEVENT
BEGIN:VEVENT
DTSTART;TZID=America/Los_Angeles:20251108T170000
DTEND;TZID=America/Los_Angeles:20251108T170000
DTSTAMP:20260421T190525
CREATED:20251027T223335Z
LAST-MODIFIED:20251027T223418Z
UID:4968-1762621200-1762621200@garlandtheater.org
SUMMARY:D(e)AD  Encore Presentation
DESCRIPTION:
URL:https://garlandtheater.org/event/dead-encore-presentation/
CATEGORIES:Showtime,Special Event
ATTACH;FMTTYPE=image/jpeg:https://garlandtheater.org/wp-content/uploads/2025/09/dead-452x640-borderlessposter.jpg
END:VEVENT
BEGIN:VEVENT
DTSTART;TZID=America/Los_Angeles:20251108T113000
DTEND;TZID=America/Los_Angeles:20251108T113000
DTSTAMP:20260421T190525
CREATED:20251103T215629Z
LAST-MODIFIED:20251107T232027Z
UID:4995-1762601400-1762601400@garlandtheater.org
SUMMARY:The Lion King  Sensory Friendly Showing
DESCRIPTION:
URL:https://garlandtheater.org/event/the-lion-king-sensory-friendly-showing/
CATEGORIES:Showtime,Special Event
ATTACH;FMTTYPE=image/png:https://garlandtheater.org/wp-content/uploads/2025/11/Nov15-Sensory-Friendly-Movie.png
END:VEVENT
BEGIN:VEVENT
DTSTART;TZID=America/Los_Angeles:20251107T183000
DTEND;TZID=America/Los_Angeles:20251107T183000
DTSTAMP:20260421T190525
CREATED:20251023T002312Z
LAST-MODIFIED:20251023T002312Z
UID:4954-1762540200-1762540200@garlandtheater.org
SUMMARY:Vampire Zombies from Space!
DESCRIPTION:
URL:https://garlandtheater.org/event/vampire-zombies-from-space-2/
CATEGORIES:Showtime,Special Event
ATTACH;FMTTYPE=image/jpeg:https://garlandtheater.org/wp-content/uploads/2025/10/VZFS_DracAttackposter.jpg
END:VEVENT
BEGIN:VEVENT
DTSTART;TZID=America/Los_Angeles:20251106T193000
DTEND;TZID=America/Los_Angeles:20251106T193000
DTSTAMP:20260421T190525
CREATED:20251103T214647Z
LAST-MODIFIED:20251103T214647Z
UID:4992-1762457400-1762457400@garlandtheater.org
SUMMARY:Funny Funny Funny  Joke Joke Joke  Live Comedy from Xander Beltran
DESCRIPTION:
URL:https://garlandtheater.org/event/funny-funny-funny-joke-joke-joke-live-comedy-from-xander-beltran/
CATEGORIES:Showtime,Special Event
ATTACH;FMTTYPE=image/png:https://garlandtheater.org/wp-content/uploads/2024/03/3F3J_poster.png
END:VEVENT
BEGIN:VEVENT
DTSTART;TZID=America/Los_Angeles:20251031T233000
DTEND;TZID=America/Los_Angeles:20251031T233000
DTSTAMP:20260421T190525
CREATED:20251012T033819Z
LAST-MODIFIED:20251012T033819Z
UID:4873-1761953400-1761953400@garlandtheater.org
SUMMARY:The Rocky Horror Picture Show  18+ only with ID
DESCRIPTION:
URL:https://garlandtheater.org/event/the-rocky-horror-picture-show-18-only-with-id-3/
CATEGORIES:Showtime,Special Event
ATTACH;FMTTYPE=image/jpeg:https://garlandtheater.org/wp-content/uploads/2024/02/RockyHorrorPictureShow.jpg
END:VEVENT
BEGIN:VEVENT
DTSTART;TZID=America/Los_Angeles:20251031T183000
DTEND;TZID=America/Los_Angeles:20251031T183000
DTSTAMP:20260421T190525
CREATED:20251022T230004Z
LAST-MODIFIED:20251022T230004Z
UID:4951-1761935400-1761935400@garlandtheater.org
SUMMARY:Vampire Zombies from Space!
DESCRIPTION:
URL:https://garlandtheater.org/event/vampire-zombies-from-space/
CATEGORIES:Showtime,Special Event
ATTACH;FMTTYPE=image/jpeg:https://garlandtheater.org/wp-content/uploads/2025/10/VZFS_DracAttackposter.jpg
END:VEVENT
BEGIN:VEVENT
DTSTART;TZID=America/Los_Angeles:20251030T190000
DTEND;TZID=America/Los_Angeles:20251030T190000
DTSTAMP:20260421T190525
CREATED:20251018T014917Z
LAST-MODIFIED:20251019T072849Z
UID:4915-1761850800-1761850800@garlandtheater.org
SUMMARY:Moulin Rouge  Cocktails and Cinema  21+ with ID
DESCRIPTION:
URL:https://garlandtheater.org/event/moulin-rouge-cocktails-and-cinema-21-with-id/
CATEGORIES:Showtime,Special Event
ATTACH;FMTTYPE=image/svg+xml:https://garlandtheater.org/wp-content/uploads/2025/10/Moulin-Rouge-Website.svg
END:VEVENT
END:VCALENDAR